BEGIN:VCALENDAR
VERSION:2.0
PRODID:-//Midwest Insurance Brokerage Services Inc - ECPv6.15.20//NONSGML v1.0//EN
CALSCALE:GREGORIAN
METHOD:PUBLISH
X-WR-CALNAME:Midwest Insurance Brokerage Services Inc
X-ORIGINAL-URL:https://www.mibsga.com
X-WR-CALDESC:Events for Midwest Insurance Brokerage Services Inc
REFRESH-INTERVAL;VALUE=DURATION:PT1H
X-Robots-Tag:noindex
X-PUBLISHED-TTL:PT1H
BEGIN:VTIMEZONE
TZID:UTC
BEGIN:STANDARD
TZOFFSETFROM:+0000
TZOFFSETTO:+0000
TZNAME:UTC
DTSTART:20170101T000000
END:STANDARD
END:VTIMEZONE
BEGIN:VEVENT
DTSTART;VALUE=DATE:20180514
DTEND;VALUE=DATE:20180515
DTSTAMP:20260425T195951
CREATED:20180214T235434Z
LAST-MODIFIED:20180214T235434Z
UID:21753-1526256000-1526342399@www.mibsga.com
SUMMARY:Due Monday\, May 14th – BCBS Renewal Paperwork for groups effective June 15th 2018
DESCRIPTION:
URL:https://www.mibsga.com/calendar/due-monday-may-14th-bcbs-renewal-paperwork-for-groups-effective-june-15th-2018/
CATEGORIES:BCBS Group Due Dates
END:VEVENT
BEGIN:VEVENT
DTSTART;VALUE=DATE:20180430
DTEND;VALUE=DATE:20180501
DTSTAMP:20260425T195951
CREATED:20180214T235406Z
LAST-MODIFIED:20180214T235406Z
UID:21752-1525046400-1525132799@www.mibsga.com
SUMMARY:Due Monday\, April 30th – BCBS Renewal Paperwork for groups effective June 1st 2018
DESCRIPTION:
URL:https://www.mibsga.com/calendar/due-monday-april-30th-bcbs-renewal-paperwork-for-groups-effective-june-1st-2018/
CATEGORIES:BCBS Group Due Dates
END:VEVENT
BEGIN:VEVENT
DTSTART;VALUE=DATE:20180412
DTEND;VALUE=DATE:20180413
DTSTAMP:20260425T195951
CREATED:20180214T235305Z
LAST-MODIFIED:20180214T235305Z
UID:21749-1523491200-1523577599@www.mibsga.com
SUMMARY:Due Thursday\, April 12th – BCBS Renewal Paperwork for groups effective May 15th 2018
DESCRIPTION:
URL:https://www.mibsga.com/calendar/due-thursday-april-12th-bcbs-renewal-paperwork-for-groups-effective-may-15th-2018/
CATEGORIES:BCBS Group Due Dates
END:VEVENT
BEGIN:VEVENT
DTSTART;VALUE=DATE:20180329
DTEND;VALUE=DATE:20180330
DTSTAMP:20260425T195951
CREATED:20180214T235247Z
LAST-MODIFIED:20180214T235310Z
UID:21748-1522281600-1522367999@www.mibsga.com
SUMMARY:Due Thursday\, March 29th – BCBS Renewal Paperwork for groups effective May 1st 2018
DESCRIPTION:
URL:https://www.mibsga.com/calendar/due-thursday-march-29th-bcbs-renewal-paperwork-for-groups-effective-may-1st-2018/
CATEGORIES:BCBS Group Due Dates
END:VEVENT
BEGIN:VEVENT
DTSTART;VALUE=DATE:20180315
DTEND;VALUE=DATE:20180316
DTSTAMP:20260425T195951
CREATED:20180206T001413Z
LAST-MODIFIED:20180214T233444Z
UID:21271-1521072000-1521158399@www.mibsga.com
SUMMARY:Due Wednesday\, March 14th – BCBS Renewal Paperwork for groups effective April 15th 2018
DESCRIPTION:
URL:https://www.mibsga.com/calendar/due-wednesday-march-14th-bcbs-renewal-paperwork-for-groups-effective-april-15th-2018/
CATEGORIES:BCBS Group Due Dates
END:VEVENT
BEGIN:VEVENT
DTSTART;VALUE=DATE:20180228
DTEND;VALUE=DATE:20180301
DTSTAMP:20260425T195951
CREATED:20180206T001202Z
LAST-MODIFIED:20180206T001202Z
UID:21269-1519776000-1519862399@www.mibsga.com
SUMMARY:Due Wednesday\, February 28th – BCBS Renewal Paperwork for groups effective April 1st 2018
DESCRIPTION:Due Wednesday\, February 28th – BCBS Renewal Paperwork for groups effective April 1st 2018
URL:https://www.mibsga.com/calendar/due-wednesday-february-28th-bcbs-renewal-paperwork-for-groups-effective-april-1st-2018/
CATEGORIES:BCBS Group Due Dates
END:VEVENT
END:VCALENDAR