BEGIN:VCALENDAR
VERSION:2.0
PRODID:-//Midwest Insurance Brokerage Services Inc - ECPv6.15.20//NONSGML v1.0//EN
CALSCALE:GREGORIAN
METHOD:PUBLISH
X-WR-CALNAME:Midwest Insurance Brokerage Services Inc
X-ORIGINAL-URL:https://www.mibsga.com
X-WR-CALDESC:Events for Midwest Insurance Brokerage Services Inc
REFRESH-INTERVAL;VALUE=DURATION:PT1H
X-Robots-Tag:noindex
X-PUBLISHED-TTL:PT1H
BEGIN:VTIMEZONE
TZID:UTC
BEGIN:STANDARD
TZOFFSETFROM:+0000
TZOFFSETTO:+0000
TZNAME:UTC
DTSTART:20160101T000000
END:STANDARD
END:VTIMEZONE
BEGIN:VEVENT
DTSTART;TZID=UTC:20210922T100000
DTEND;TZID=UTC:20210922T110000
DTSTAMP:20260424T064903
CREATED:20210916T222207Z
LAST-MODIFIED:20210916T222207Z
UID:27057-1632304800-1632308400@www.mibsga.com
SUMMARY:Webinar: BCBSIL New MAPD Plan
DESCRIPTION:Click Here to Register
URL:https://www.mibsga.com/calendar/webinar-bcbsil-new-mapd-plan/
CATEGORIES:Webinars
END:VEVENT
BEGIN:VEVENT
DTSTART;TZID=UTC:20210811T140000
DTEND;TZID=UTC:20210811T150000
DTSTAMP:20260424T064903
CREATED:20210810T014940Z
LAST-MODIFIED:20210810T014940Z
UID:26725-1628690400-1628694000@www.mibsga.com
SUMMARY:MIBS Webinar: BCBSIL Medicare Products 2022
DESCRIPTION:Click here to RSVP: https://www.mibsga.com/webinarbcbsil-medicare2022/
URL:https://www.mibsga.com/calendar/mibs-webinar-bcbsil-medicare-products-2022/
CATEGORIES:Webinars
END:VEVENT
BEGIN:VEVENT
DTSTART;TZID=UTC:20210713T100000
DTEND;TZID=UTC:20210713T110000
DTSTAMP:20260424T064903
CREATED:20210530T212605Z
LAST-MODIFIED:20210530T212605Z
UID:26462-1626170400-1626174000@www.mibsga.com
SUMMARY:Liberty Mutual Webinar- July 13\, 2021 at 10.a.m.
DESCRIPTION:Click Here to Register
URL:https://www.mibsga.com/calendar/liberty-mutual-webinar-july-13-2021-at-10-a-m/
CATEGORIES:Webinars
END:VEVENT
BEGIN:VEVENT
DTSTART;TZID=UTC:20210602T100000
DTEND;TZID=UTC:20210602T110000
DTSTAMP:20260424T064903
CREATED:20210507T222258Z
LAST-MODIFIED:20210507T222258Z
UID:26426-1622628000-1622631600@www.mibsga.com
SUMMARY:Safeco Webinar - June 2 at 10am
DESCRIPTION:Click Here to Register
URL:https://www.mibsga.com/calendar/safeco-webinar-june-2-at-10am/
CATEGORIES:Webinars
END:VEVENT
BEGIN:VEVENT
DTSTART;TZID=UTC:20210526T090000
DTEND;TZID=UTC:20210526T120000
DTSTAMP:20260424T064903
CREATED:20210507T224825Z
LAST-MODIFIED:20210507T224825Z
UID:26428-1622019600-1622030400@www.mibsga.com
SUMMARY:MIBS Ethics Webinar
DESCRIPTION:Click Here to Register
URL:https://www.mibsga.com/calendar/mibs-ethics-webinar/
CATEGORIES:Webinars
END:VEVENT
BEGIN:VEVENT
DTSTART;TZID=UTC:20210303T100000
DTEND;TZID=UTC:20210303T110000
DTSTAMP:20260424T064903
CREATED:20210213T040436Z
LAST-MODIFIED:20210213T040436Z
UID:26167-1614765600-1614769200@www.mibsga.com
SUMMARY:Traveler's Webinar
DESCRIPTION:Register for the webinar here: https://www.mibsga.com/webinar-registration-030321/
URL:https://www.mibsga.com/calendar/travelers-webinar/
CATEGORIES:Webinars
END:VEVENT
BEGIN:VEVENT
DTSTART;TZID=UTC:20210217T140000
DTEND;TZID=UTC:20210217T150000
DTSTAMP:20260424T064903
CREATED:20210129T060851Z
LAST-MODIFIED:20210129T060851Z
UID:26138-1613570400-1613574000@www.mibsga.com
SUMMARY:Webinar: BCBSIL Medicare Supplement 2021 Updates
DESCRIPTION:Click Here to Register
URL:https://www.mibsga.com/calendar/webinar-bcbsil-medicare-supplement-2021-updates-2/
CATEGORIES:Webinars
END:VEVENT
BEGIN:VEVENT
DTSTART;TZID=UTC:20210210T140000
DTEND;TZID=UTC:20210210T150000
DTSTAMP:20260424T064903
CREATED:20210129T060423Z
LAST-MODIFIED:20210129T060423Z
UID:26136-1612965600-1612969200@www.mibsga.com
SUMMARY:Webinar: BCBSIL Medicare Supplement 2021 Updates
DESCRIPTION:Click Here to Register for the Webinar
URL:https://www.mibsga.com/calendar/webinar-bcbsil-medicare-supplement-2021-updates/
CATEGORIES:Webinars
END:VEVENT
BEGIN:VEVENT
DTSTART;TZID=UTC:20210126T100000
DTEND;TZID=UTC:20210126T110000
DTSTAMP:20260424T064903
CREATED:20210114T020528Z
LAST-MODIFIED:20210114T020528Z
UID:26107-1611655200-1611658800@www.mibsga.com
SUMMARY:Allstate Webinar
DESCRIPTION:
URL:https://www.mibsga.com/calendar/allstate-webinar/
CATEGORIES:Webinars
END:VEVENT
BEGIN:VEVENT
DTSTART;TZID=UTC:20200908T080000
DTEND;TZID=UTC:20200908T170000
DTSTAMP:20260424T064903
CREATED:20200815T015306Z
LAST-MODIFIED:20200815T015306Z
UID:25645-1599552000-1599584400@www.mibsga.com
SUMMARY:Webinar with Aetna
DESCRIPTION:
URL:https://www.mibsga.com/calendar/webinar-with-aetna/
CATEGORIES:Webinars
END:VEVENT
BEGIN:VEVENT
DTSTART;TZID=UTC:20200902T080000
DTEND;TZID=UTC:20200902T170000
DTSTAMP:20260424T064903
CREATED:20200815T015201Z
LAST-MODIFIED:20200815T015201Z
UID:25643-1599033600-1599066000@www.mibsga.com
SUMMARY:Aetna Webinar
DESCRIPTION:
URL:https://www.mibsga.com/calendar/aetna-webinar/
CATEGORIES:Webinars
END:VEVENT
BEGIN:VEVENT
DTSTART;TZID=UTC:20180222T103000
DTEND;TZID=UTC:20180222T113000
DTSTAMP:20260424T064903
CREATED:20180130T004927Z
LAST-MODIFIED:20180214T233048Z
UID:21207-1519295400-1519299000@www.mibsga.com
SUMMARY:C.N.A Technology Webinar
DESCRIPTION:C.N.A. Technology Webinar \nCovering appetites and sales ideas \nThursday 2/22/18  10:30 am to 11:30 a.m. \n  \nRegister For This Webinar
URL:https://www.mibsga.com/calendar/c-n-a-technology-webinar/
CATEGORIES:Webinars
ORGANIZER;CN="Patty Kretschmar":MAILTO:patty@midwestga.com
END:VEVENT
BEGIN:VEVENT
DTSTART;TZID=UTC:20171025T090000
DTEND;TZID=UTC:20171025T220000
DTSTAMP:20260424T064903
CREATED:20171003T175359Z
LAST-MODIFIED:20171003T175359Z
UID:21582-1508922000-1508968800@www.mibsga.com
SUMMARY:CNA Small Business Webinar
DESCRIPTION:Second CNA Small Business Webinar –   Tuesday\, September 26th\n\n\n\n\n\n\n\n\n\n\n\n\n\n\n\n\n\n\n\n\n\n\n\nYou are invited to join Kristina Randall from CNA to attend a webinar covering the following:\n\n\nSmall business capabilities\nAppetite refresher\nCoverage Advantages\nMost successful classes of business\nQuick quote advantage
URL:https://www.mibsga.com/calendar/cna-small-business-webinar/
CATEGORIES:Webinars
END:VEVENT
END:VCALENDAR