BEGIN:VCALENDAR
VERSION:2.0
PRODID:-//Midwest Insurance Brokerage Services Inc - ECPv6.15.20//NONSGML v1.0//EN
CALSCALE:GREGORIAN
METHOD:PUBLISH
X-WR-CALNAME:Midwest Insurance Brokerage Services Inc
X-ORIGINAL-URL:https://www.mibsga.com
X-WR-CALDESC:Events for Midwest Insurance Brokerage Services Inc
REFRESH-INTERVAL;VALUE=DURATION:PT1H
X-Robots-Tag:noindex
X-PUBLISHED-TTL:PT1H
BEGIN:VTIMEZONE
TZID:UTC
BEGIN:STANDARD
TZOFFSETFROM:+0000
TZOFFSETTO:+0000
TZNAME:UTC
DTSTART:20190101T000000
END:STANDARD
END:VTIMEZONE
BEGIN:VEVENT
DTSTART;TZID=UTC:20210713T100000
DTEND;TZID=UTC:20210713T110000
DTSTAMP:20260424T093809
CREATED:20210530T212605Z
LAST-MODIFIED:20210530T212605Z
UID:26462-1626170400-1626174000@www.mibsga.com
SUMMARY:Liberty Mutual Webinar- July 13\, 2021 at 10.a.m.
DESCRIPTION:Click Here to Register
URL:https://www.mibsga.com/calendar/liberty-mutual-webinar-july-13-2021-at-10-a-m/
CATEGORIES:Webinars
END:VEVENT
BEGIN:VEVENT
DTSTART;VALUE=DATE:20210630
DTEND;VALUE=DATE:20210701
DTSTAMP:20260424T093809
CREATED:20201118T042739Z
LAST-MODIFIED:20201118T042739Z
UID:25998-1625011200-1625097599@www.mibsga.com
SUMMARY:Due Wednesday June 30\, 2021 – BCBSIL Renewal Paperwork for groups effective August 1\, 2021
DESCRIPTION:
URL:https://www.mibsga.com/calendar/due-wednesday-june-30-2021-bcbsil-renewal-paperwork-for-groups-effective-august-1-2021/
CATEGORIES:BCBS Group Due Dates
END:VEVENT
BEGIN:VEVENT
DTSTART;VALUE=DATE:20210611
DTEND;VALUE=DATE:20210612
DTSTAMP:20260424T093809
CREATED:20201118T042549Z
LAST-MODIFIED:20201118T042549Z
UID:25996-1623369600-1623455999@www.mibsga.com
SUMMARY:Due Friday June 11\, 2021 – BCBSIL Renewal Paperwork for groups effective July 15\, 2021
DESCRIPTION:
URL:https://www.mibsga.com/calendar/due-friday-june-11-2021-bcbsil-renewal-paperwork-for-groups-effective-july-15-2021/
CATEGORIES:BCBS Group Due Dates
END:VEVENT
BEGIN:VEVENT
DTSTART;TZID=UTC:20210602T100000
DTEND;TZID=UTC:20210602T110000
DTSTAMP:20260424T093809
CREATED:20210507T222258Z
LAST-MODIFIED:20210507T222258Z
UID:26426-1622628000-1622631600@www.mibsga.com
SUMMARY:Safeco Webinar - June 2 at 10am
DESCRIPTION:Click Here to Register
URL:https://www.mibsga.com/calendar/safeco-webinar-june-2-at-10am/
CATEGORIES:Webinars
END:VEVENT
BEGIN:VEVENT
DTSTART;VALUE=DATE:20210528
DTEND;VALUE=DATE:20210529
DTSTAMP:20260424T093809
CREATED:20201118T011455Z
LAST-MODIFIED:20201118T011455Z
UID:25990-1622160000-1622246399@www.mibsga.com
SUMMARY:Due Friday May 28\, 2021 – BCBSIL Renewal Paperwork for groups effective July 1\, 2021
DESCRIPTION:
URL:https://www.mibsga.com/calendar/due-friday-may-28-2021-bcbsil-renewal-paperwork-for-groups-effective-july-1-2021/
CATEGORIES:BCBS Group Due Dates
END:VEVENT
BEGIN:VEVENT
DTSTART;TZID=UTC:20210526T090000
DTEND;TZID=UTC:20210526T120000
DTSTAMP:20260424T093809
CREATED:20210507T224825Z
LAST-MODIFIED:20210507T224825Z
UID:26428-1622019600-1622030400@www.mibsga.com
SUMMARY:MIBS Ethics Webinar
DESCRIPTION:Click Here to Register
URL:https://www.mibsga.com/calendar/mibs-ethics-webinar/
CATEGORIES:Webinars
END:VEVENT
BEGIN:VEVENT
DTSTART;VALUE=DATE:20210514
DTEND;VALUE=DATE:20210515
DTSTAMP:20260424T093809
CREATED:20201118T011340Z
LAST-MODIFIED:20201118T011340Z
UID:25988-1620950400-1621036799@www.mibsga.com
SUMMARY:Due Friday May 14\, 2021 – BCBSIL Renewal Paperwork for groups effective June 15\, 2021
DESCRIPTION:
URL:https://www.mibsga.com/calendar/due-friday-may-14-2021-bcbsil-renewal-paperwork-for-groups-effective-june-15-2021/
CATEGORIES:BCBS Group Due Dates
END:VEVENT
BEGIN:VEVENT
DTSTART;VALUE=DATE:20210430
DTEND;VALUE=DATE:20210501
DTSTAMP:20260424T093809
CREATED:20201118T011207Z
LAST-MODIFIED:20201118T011207Z
UID:25986-1619740800-1619827199@www.mibsga.com
SUMMARY:Due Friday April 30\, 2021 – BCBSIL Renewal Paperwork for groups effective June 1\, 2021
DESCRIPTION:
URL:https://www.mibsga.com/calendar/due-friday-april-30-2021-bcbsil-renewal-paperwork-for-groups-effective-june-1-2021/
CATEGORIES:BCBS Group Due Dates
END:VEVENT
BEGIN:VEVENT
DTSTART;VALUE=DATE:20210412
DTEND;VALUE=DATE:20210413
DTSTAMP:20260424T093809
CREATED:20201118T010932Z
LAST-MODIFIED:20201118T010932Z
UID:25983-1618185600-1618271999@www.mibsga.com
SUMMARY:Due Tuesday April 12\, 2021 – BCBSIL Renewal Paperwork for groups effective May 15\, 2021
DESCRIPTION:
URL:https://www.mibsga.com/calendar/due-tuesday-april-12-2021-bcbsil-renewal-paperwork-for-groups-effective-may-15-2021/
CATEGORIES:BCBS Group Due Dates
END:VEVENT
BEGIN:VEVENT
DTSTART;VALUE=DATE:20210330
DTEND;VALUE=DATE:20210331
DTSTAMP:20260424T093809
CREATED:20201118T010830Z
LAST-MODIFIED:20201118T010830Z
UID:25981-1617062400-1617148799@www.mibsga.com
SUMMARY:Due Tuesday March 30\, 2021 – BCBSIL Renewal Paperwork for groups effective May 1\, 2021
DESCRIPTION:
URL:https://www.mibsga.com/calendar/due-tuesday-march-30-2021-bcbsil-renewal-paperwork-for-groups-effective-may-1-2021/
CATEGORIES:BCBS Group Due Dates
END:VEVENT
BEGIN:VEVENT
DTSTART;VALUE=DATE:20210312
DTEND;VALUE=DATE:20210313
DTSTAMP:20260424T093809
CREATED:20201118T010703Z
LAST-MODIFIED:20201118T010703Z
UID:25979-1615507200-1615593599@www.mibsga.com
SUMMARY:Due Friday March 12\, 2021 – BCBSIL Renewal Paperwork for groups effective April 15\, 2021
DESCRIPTION:
URL:https://www.mibsga.com/calendar/due-friday-march-12-2021-bcbsil-renewal-paperwork-for-groups-effective-april-15-2021/
CATEGORIES:BCBS Group Due Dates
END:VEVENT
BEGIN:VEVENT
DTSTART;TZID=UTC:20210303T100000
DTEND;TZID=UTC:20210303T110000
DTSTAMP:20260424T093809
CREATED:20210213T040436Z
LAST-MODIFIED:20210213T040436Z
UID:26167-1614765600-1614769200@www.mibsga.com
SUMMARY:Traveler's Webinar
DESCRIPTION:Register for the webinar here: https://www.mibsga.com/webinar-registration-030321/
URL:https://www.mibsga.com/calendar/travelers-webinar/
CATEGORIES:Webinars
END:VEVENT
BEGIN:VEVENT
DTSTART;VALUE=DATE:20210226
DTEND;VALUE=DATE:20210227
DTSTAMP:20260424T093809
CREATED:20201118T010451Z
LAST-MODIFIED:20201118T010451Z
UID:25977-1614297600-1614383999@www.mibsga.com
SUMMARY:Due Friday February 26\, 2021 – BCBSIL Renewal Paperwork for groups effective April 1\, 2021
DESCRIPTION:
URL:https://www.mibsga.com/calendar/due-friday-february-26-2021-bcbsil-renewal-paperwork-for-groups-effective-april-1-2021/
CATEGORIES:BCBS Group Due Dates
END:VEVENT
BEGIN:VEVENT
DTSTART;TZID=UTC:20210217T140000
DTEND;TZID=UTC:20210217T150000
DTSTAMP:20260424T093809
CREATED:20210129T060851Z
LAST-MODIFIED:20210129T060851Z
UID:26138-1613570400-1613574000@www.mibsga.com
SUMMARY:Webinar: BCBSIL Medicare Supplement 2021 Updates
DESCRIPTION:Click Here to Register
URL:https://www.mibsga.com/calendar/webinar-bcbsil-medicare-supplement-2021-updates-2/
CATEGORIES:Webinars
END:VEVENT
BEGIN:VEVENT
DTSTART;VALUE=DATE:20210212
DTEND;VALUE=DATE:20210213
DTSTAMP:20260424T093809
CREATED:20201201T044912Z
LAST-MODIFIED:20201201T044912Z
UID:26034-1613088000-1613174399@www.mibsga.com
SUMMARY:Due Friday February 12\, 2021 – BCBSIL Renewal Paperwork for groups effective March 15\, 2021
DESCRIPTION:
URL:https://www.mibsga.com/calendar/due-friday-february-12-2021-bcbsil-renewal-paperwork-for-groups-effective-march-15-2021/
CATEGORIES:BCBS Group Due Dates
END:VEVENT
BEGIN:VEVENT
DTSTART;TZID=UTC:20210210T140000
DTEND;TZID=UTC:20210210T150000
DTSTAMP:20260424T093809
CREATED:20210129T060423Z
LAST-MODIFIED:20210129T060423Z
UID:26136-1612965600-1612969200@www.mibsga.com
SUMMARY:Webinar: BCBSIL Medicare Supplement 2021 Updates
DESCRIPTION:Click Here to Register for the Webinar
URL:https://www.mibsga.com/calendar/webinar-bcbsil-medicare-supplement-2021-updates/
CATEGORIES:Webinars
END:VEVENT
BEGIN:VEVENT
DTSTART;VALUE=DATE:20210128
DTEND;VALUE=DATE:20210129
DTSTAMP:20260424T093809
CREATED:20201118T010134Z
LAST-MODIFIED:20201118T010134Z
UID:25973-1611792000-1611878399@www.mibsga.com
SUMMARY:Due Thursday January 28\, 2021 – BCBSIL Renewal Paperwork for groups effective March 1\, 2021
DESCRIPTION:
URL:https://www.mibsga.com/calendar/due-thursday-january-28-2021-bcbsil-renewal-paperwork-for-groups-effective-march-1-2021/
CATEGORIES:BCBS Group Due Dates
END:VEVENT
BEGIN:VEVENT
DTSTART;TZID=UTC:20210126T100000
DTEND;TZID=UTC:20210126T110000
DTSTAMP:20260424T093809
CREATED:20210114T020528Z
LAST-MODIFIED:20210114T020528Z
UID:26107-1611655200-1611658800@www.mibsga.com
SUMMARY:Allstate Webinar
DESCRIPTION:
URL:https://www.mibsga.com/calendar/allstate-webinar/
CATEGORIES:Webinars
END:VEVENT
BEGIN:VEVENT
DTSTART;VALUE=DATE:20210113
DTEND;VALUE=DATE:20210114
DTSTAMP:20260424T093809
CREATED:20201118T005902Z
LAST-MODIFIED:20201118T005902Z
UID:25971-1610496000-1610582399@www.mibsga.com
SUMMARY:Due Wednesday January 13\, 2021 – BCBSIL Renewal Paperwork for groups effective February 15\, 2021
DESCRIPTION:
URL:https://www.mibsga.com/calendar/due-wednesday-january-13-2021-bcbsil-renewal-paperwork-for-groups-effective-february-15-2021/
CATEGORIES:BCBS Group Due Dates
END:VEVENT
BEGIN:VEVENT
DTSTART;VALUE=DATE:20201211
DTEND;VALUE=DATE:20201212
DTSTAMP:20260424T093809
CREATED:20201118T005154Z
LAST-MODIFIED:20201118T005154Z
UID:25969-1607644800-1607731199@www.mibsga.com
SUMMARY:Due Friday December 11\, 2020 – BCBSIL Renewal Paperwork for groups effective January 15\, 2021
DESCRIPTION:
URL:https://www.mibsga.com/calendar/due-friday-december-11-2020-bcbsil-renewal-paperwork-for-groups-effective-january-15-2021/
CATEGORIES:BCBS Group Due Dates
END:VEVENT
BEGIN:VEVENT
DTSTART;VALUE=DATE:20201130
DTEND;VALUE=DATE:20201201
DTSTAMP:20260424T093809
CREATED:20191010T222816Z
LAST-MODIFIED:20200305T202907Z
UID:24940-1606694400-1606780799@www.mibsga.com
SUMMARY:Due Monday November 30\, 2020 – BCBSIL Renewal Paperwork for groups effective January 1\, 2021
DESCRIPTION:
URL:https://www.mibsga.com/calendar/due-monday-november-30-2020-bcbs-renewal-paperwork-for-groups-effective-january-1-2021/
END:VEVENT
BEGIN:VEVENT
DTSTART;VALUE=DATE:20201117
DTEND;VALUE=DATE:20201118
DTSTAMP:20260424T093809
CREATED:20201117T233020Z
LAST-MODIFIED:20201117T233020Z
UID:25948-1605571200-1605657599@www.mibsga.com
SUMMARY:Due Tuesday January 19\, 2021– BCBSIL Renewal Paperwork for groups effective February 15\, 2021
DESCRIPTION:
URL:https://www.mibsga.com/calendar/due-tuesday-january-19-2021-bcbsil-renewal-paperwork-for-groups-effective-february-15-2021/
CATEGORIES:BCBS Group Due Dates
END:VEVENT
BEGIN:VEVENT
DTSTART;VALUE=DATE:20201113
DTEND;VALUE=DATE:20201114
DTSTAMP:20260424T093809
CREATED:20191010T222713Z
LAST-MODIFIED:20200305T202930Z
UID:24938-1605225600-1605311999@www.mibsga.com
SUMMARY:Due Friday November 13\, 2020 – BCBSIL Renewal Paperwork for groups effective December 15\, 2020
DESCRIPTION:
URL:https://www.mibsga.com/calendar/due-friday-november-13-2020-bcbs-renewal-paperwork-for-groups-effective-december-15-2020/
END:VEVENT
BEGIN:VEVENT
DTSTART;VALUE=DATE:20201029
DTEND;VALUE=DATE:20201030
DTSTAMP:20260424T093809
CREATED:20191010T222605Z
LAST-MODIFIED:20200305T202939Z
UID:24936-1603929600-1604015999@www.mibsga.com
SUMMARY:Due Thursday October 29\, 2020 – BCBSIL Renewal Paperwork for groups effective December 1\, 2020
DESCRIPTION:
URL:https://www.mibsga.com/calendar/due-thursday-october-29-2020-bcbs-renewal-paperwork-for-groups-effective-december-1-2020/
END:VEVENT
BEGIN:VEVENT
DTSTART;VALUE=DATE:20201014
DTEND;VALUE=DATE:20201015
DTSTAMP:20260424T093809
CREATED:20191010T222408Z
LAST-MODIFIED:20200305T203217Z
UID:24934-1602633600-1602719999@www.mibsga.com
SUMMARY:Due Wednesday October 14\, 2020 – BCBSIL Renewal Paperwork for groups effective November 15\, 2020
DESCRIPTION:
URL:https://www.mibsga.com/calendar/due-wednesday-october-14-2020-bcbs-renewal-paperwork-for-groups-effective-november-15-2020/
END:VEVENT
BEGIN:VEVENT
DTSTART;VALUE=DATE:20200930
DTEND;VALUE=DATE:20201001
DTSTAMP:20260424T093809
CREATED:20191010T222244Z
LAST-MODIFIED:20200305T203246Z
UID:24932-1601424000-1601510399@www.mibsga.com
SUMMARY:Due Wednesday September 30\, 2020 – BCBSIL Renewal Paperwork for groups effective November 1\, 2020
DESCRIPTION:
URL:https://www.mibsga.com/calendar/due-wednesday-september-30-2020-bcbs-renewal-paperwork-for-groups-effective-november-1-2020/
END:VEVENT
BEGIN:VEVENT
DTSTART;VALUE=DATE:20200911
DTEND;VALUE=DATE:20200912
DTSTAMP:20260424T093809
CREATED:20191010T222126Z
LAST-MODIFIED:20200305T203302Z
UID:24930-1599782400-1599868799@www.mibsga.com
SUMMARY:Due Friday September 11\, 2020 – BCBSIL Renewal Paperwork for groups effective October 15\, 2020
DESCRIPTION:
URL:https://www.mibsga.com/calendar/due-friday-september-11-2020-bcbs-renewal-paperwork-for-groups-effective-october-15-2020/
END:VEVENT
BEGIN:VEVENT
DTSTART;TZID=UTC:20200908T080000
DTEND;TZID=UTC:20200908T170000
DTSTAMP:20260424T093809
CREATED:20200815T015306Z
LAST-MODIFIED:20200815T015306Z
UID:25645-1599552000-1599584400@www.mibsga.com
SUMMARY:Webinar with Aetna
DESCRIPTION:
URL:https://www.mibsga.com/calendar/webinar-with-aetna/
CATEGORIES:Webinars
END:VEVENT
BEGIN:VEVENT
DTSTART;TZID=UTC:20200902T080000
DTEND;TZID=UTC:20200902T170000
DTSTAMP:20260424T093809
CREATED:20200815T015201Z
LAST-MODIFIED:20200815T015201Z
UID:25643-1599033600-1599066000@www.mibsga.com
SUMMARY:Aetna Webinar
DESCRIPTION:
URL:https://www.mibsga.com/calendar/aetna-webinar/
CATEGORIES:Webinars
END:VEVENT
BEGIN:VEVENT
DTSTART;VALUE=DATE:20200828
DTEND;VALUE=DATE:20200829
DTSTAMP:20260424T093809
CREATED:20191010T221948Z
LAST-MODIFIED:20200305T204058Z
UID:24928-1598572800-1598659199@www.mibsga.com
SUMMARY:Due Friday August 28\, 2020 – BCBSIL Renewal Paperwork for groups effective October 1\, 2020
DESCRIPTION:
URL:https://www.mibsga.com/calendar/due-friday-august-28-2020-bcbs-renewal-paperwork-for-groups-effective-october-1-2020/
END:VEVENT
END:VCALENDAR