BEGIN:VCALENDAR
VERSION:2.0
PRODID:-//Midwest Insurance Brokerage Services Inc - ECPv6.15.20//NONSGML v1.0//EN
CALSCALE:GREGORIAN
METHOD:PUBLISH
X-WR-CALNAME:Midwest Insurance Brokerage Services Inc
X-ORIGINAL-URL:https://www.mibsga.com
X-WR-CALDESC:Events for Midwest Insurance Brokerage Services Inc
REFRESH-INTERVAL;VALUE=DURATION:PT1H
X-Robots-Tag:noindex
X-PUBLISHED-TTL:PT1H
BEGIN:VTIMEZONE
TZID:UTC
BEGIN:STANDARD
TZOFFSETFROM:+0000
TZOFFSETTO:+0000
TZNAME:UTC
DTSTART:20170101T000000
END:STANDARD
END:VTIMEZONE
BEGIN:VEVENT
DTSTART;TZID=UTC:20190604T080000
DTEND;TZID=UTC:20190604T170000
DTSTAMP:20260425T071313
CREATED:20190418T214329Z
LAST-MODIFIED:20190418T214346Z
UID:24381-1559635200-1559667600@www.mibsga.com
SUMMARY:Due Tuesday\, June 4th\, 2019 – BCBS Renewal Paperwork for groups effective July 15\, 2019
DESCRIPTION:
URL:https://www.mibsga.com/calendar/due-tuesday-june-4th-2019-bcbs-renewal-paperwork-for-groups-effective-july-15-2019/
CATEGORIES:BCBS Group Due Dates
END:VEVENT
BEGIN:VEVENT
DTSTART;TZID=UTC:20190530T080000
DTEND;TZID=UTC:20190530T170000
DTSTAMP:20260425T071313
CREATED:20181008T220424Z
LAST-MODIFIED:20181008T220424Z
UID:23368-1559203200-1559235600@www.mibsga.com
SUMMARY:Due Thursday May 30\, 2019 – BCBS Renewal Paperwork for groups effective July 1\, 2019
DESCRIPTION:
URL:https://www.mibsga.com/calendar/due-thursday-may-30-2019-bcbs-renewal-paperwork-for-groups-effective-july-1-2019/
CATEGORIES:BCBS Group Due Dates
END:VEVENT
BEGIN:VEVENT
DTSTART;TZID=UTC:20190514T080000
DTEND;TZID=UTC:20190514T170000
DTSTAMP:20260425T071313
CREATED:20190418T214220Z
LAST-MODIFIED:20190418T214220Z
UID:24379-1557820800-1557853200@www.mibsga.com
SUMMARY:Due Tuesday\, May 14th\, 2019 – BCBS Renewal Paperwork for groups effective June 15\, 2019
DESCRIPTION:
URL:https://www.mibsga.com/calendar/due-tuesday-may-14th-2019-bcbs-renewal-paperwork-for-groups-effective-june-15-2019/
END:VEVENT
BEGIN:VEVENT
DTSTART;TZID=UTC:20190509T100000
DTEND;TZID=UTC:20190509T120000
DTSTAMP:20260425T071313
CREATED:20190312T202808Z
LAST-MODIFIED:20190315T001635Z
UID:24213-1557396000-1557403200@www.mibsga.com
SUMMARY:MIBS Seminar: Selling Individual Health Insurance
DESCRIPTION:Register Here\n  \nAgenda:     Under 65 plans \nCertifications \nSpecial Enrollment Period \nBCBS websites \nMedicare plans \nBasic Medicare information (no Advantage or Part D) \nMedicare supplement plans \nEnrolling
URL:https://www.mibsga.com/calendar/mibs-seminar-individual-products/
END:VEVENT
BEGIN:VEVENT
DTSTART;TZID=UTC:20190430T100000
DTEND;TZID=UTC:20190430T113000
DTSTAMP:20260425T071313
CREATED:20190408T003042Z
LAST-MODIFIED:20190408T003042Z
UID:24323-1556618400-1556623800@www.mibsga.com
SUMMARY:MIBS Seminar With Travelers
DESCRIPTION:Register Here
URL:https://www.mibsga.com/calendar/mibs-seminar-with-travelers/
LOCATION:Midwest Insurance Brokerage Service Inc.\, 54 W Seegers Road\, Arlington Heights\, IL\, 60005\, United States
END:VEVENT
BEGIN:VEVENT
DTSTART;TZID=UTC:20190430T080000
DTEND;TZID=UTC:20190430T170000
DTSTAMP:20260425T071313
CREATED:20181008T220255Z
LAST-MODIFIED:20181008T220255Z
UID:23366-1556611200-1556643600@www.mibsga.com
SUMMARY:Due Tuesday\, April 30th\, 2019 – BCBS Renewal Paperwork for groups effective June 1\, 2019
DESCRIPTION:
URL:https://www.mibsga.com/calendar/due-tuesday-april-30th-2019-bcbs-renewal-paperwork-for-groups-effective-june-1-2019/
CATEGORIES:BCBS Group Due Dates
END:VEVENT
BEGIN:VEVENT
DTSTART;TZID=UTC:20190411T100000
DTEND;TZID=UTC:20190411T120000
DTSTAMP:20260425T071313
CREATED:20190312T202650Z
LAST-MODIFIED:20190315T003315Z
UID:24211-1554976800-1554984000@www.mibsga.com
SUMMARY:MIBS Seminar: Selling Group Health Insurance
DESCRIPTION:Register Here\n  \nAgenda:      Group eligibility and markets \nThe important first meeting fact gathering \nSales presentation \nEnrollment \nWhat to do after the Welcome letter \nRenewals
URL:https://www.mibsga.com/calendar/mibs-seminar-group-products/
LOCATION:Midwest Insurance Brokerage Service Inc.\, 54 W Seegers Road\, Arlington Heights\, IL\, 60005\, United States
END:VEVENT
BEGIN:VEVENT
DTSTART;TZID=UTC:20190404T100000
DTEND;TZID=UTC:20190404T113000
DTSTAMP:20260425T071313
CREATED:20190312T201742Z
LAST-MODIFIED:20190312T202448Z
UID:24207-1554372000-1554377400@www.mibsga.com
SUMMARY:MIBS Seminar: TASC
DESCRIPTION:Register Here
URL:https://www.mibsga.com/calendar/mibs-seminar-tasc/
LOCATION:Midwest Brokerage Services\, Inc.\, 54 w seegers road\, Arlington Heights\, 60005
END:VEVENT
BEGIN:VEVENT
DTSTART;TZID=UTC:20190328T080000
DTEND;TZID=UTC:20190328T170000
DTSTAMP:20260425T071313
CREATED:20181008T220149Z
LAST-MODIFIED:20181008T220149Z
UID:23364-1553760000-1553792400@www.mibsga.com
SUMMARY:Due Thursday March 28\, 2019 – BCBS Renewal Paperwork for groups effective May 1\, 2019
DESCRIPTION:
URL:https://www.mibsga.com/calendar/due-thursday-march-28-2019-bcbs-renewal-paperwork-for-groups-effective-may-1-2019/
CATEGORIES:BCBS Group Due Dates
END:VEVENT
BEGIN:VEVENT
DTSTART;TZID=UTC:20190228T080000
DTEND;TZID=UTC:20190228T170000
DTSTAMP:20260425T071313
CREATED:20181008T220012Z
LAST-MODIFIED:20181008T220012Z
UID:23360-1551340800-1551373200@www.mibsga.com
SUMMARY:Due Thursday February 28th\, 2019 – BCBS Renewal Paperwork for groups effective April 1\, 2019
DESCRIPTION:
URL:https://www.mibsga.com/calendar/due-thursday-february-28th-2019-bcbs-renewal-paperwork-for-groups-effective-april-1-2019/
CATEGORIES:BCBS Group Due Dates
END:VEVENT
BEGIN:VEVENT
DTSTART;TZID=UTC:20190128T080000
DTEND;TZID=UTC:20190128T170000
DTSTAMP:20260425T071313
CREATED:20181008T215722Z
LAST-MODIFIED:20181008T215722Z
UID:23358-1548662400-1548694800@www.mibsga.com
SUMMARY:Due Monday January 28\, 2019 – BCBS Renewal Paperwork for groups effective March 1\, 2019
DESCRIPTION:
URL:https://www.mibsga.com/calendar/due-monday-january-28-2019-bcbs-renewal-paperwork-for-groups-effective-march-1-2019/
CATEGORIES:BCBS Group Due Dates
END:VEVENT
BEGIN:VEVENT
DTSTART;TZID=UTC:20181227T083000
DTEND;TZID=UTC:20181227T163000
DTSTAMP:20260425T071313
CREATED:20181008T221412Z
LAST-MODIFIED:20181205T033919Z
UID:23381-1545899400-1545928200@www.mibsga.com
SUMMARY:Due Thursday December 27\, 2018– BCBS Renewal Paperwork for groups effective January 1\, 2019
DESCRIPTION:
URL:https://www.mibsga.com/calendar/due-thursday-november-28-2019-bcbs-renewal-paperwork-for-groups-effective-january-1-2020/
CATEGORIES:BCBS Group Due Dates
END:VEVENT
BEGIN:VEVENT
DTSTART;VALUE=DATE:20181227
DTEND;VALUE=DATE:20181228
DTSTAMP:20260425T071313
CREATED:20181205T033658Z
LAST-MODIFIED:20181205T034840Z
UID:23839-1545868800-1545955199@www.mibsga.com
SUMMARY:Due Thursday December 27\, 2018– BCBS Renewal Paperwork for groups effective February 1\, 2019
DESCRIPTION:
URL:https://www.mibsga.com/calendar/due-thursday-november-27-2019-bcbs-renewal-paperwork-for-groups-effective-february-2-2019/
END:VEVENT
BEGIN:VEVENT
DTSTART;TZID=UTC:20181214T080000
DTEND;TZID=UTC:20181214T120000
DTSTAMP:20260425T071313
CREATED:20181205T034259Z
LAST-MODIFIED:20181205T034726Z
UID:23846-1544774400-1544788800@www.mibsga.com
SUMMARY:Due Friday December 14\, 2018 by 12p.m.– BCBS Under 65 Individual Applications effective January 1\, 2019
DESCRIPTION:
URL:https://www.mibsga.com/calendar/due-friday-december-14-2018-by-12p-m-bcbs-under-65-individual-applications-effective-january-1-2019/
END:VEVENT
BEGIN:VEVENT
DTSTART;TZID=UTC:20181214T080000
DTEND;TZID=UTC:20181214T120000
DTSTAMP:20260425T071313
CREATED:20181205T034138Z
LAST-MODIFIED:20181205T034516Z
UID:23844-1544774400-1544788800@www.mibsga.com
SUMMARY:Due Friday December 14\, 2018 by 12p.m.– BCBS New Business Paperwork for Special Enrollment groups effective January 1\, 2019
DESCRIPTION:
URL:https://www.mibsga.com/calendar/due-friday-december-14-2018-bcbs-new-business-paperwork-for-special-enrollment-groups-effective-january-1-2019/
END:VEVENT
BEGIN:VEVENT
DTSTART;TZID=UTC:20181129T080000
DTEND;TZID=UTC:20181129T170000
DTSTAMP:20260425T071313
CREATED:20181008T215501Z
LAST-MODIFIED:20181008T215501Z
UID:23354-1543478400-1543510800@www.mibsga.com
SUMMARY:Due Thursday\, November 29th\, 2018 – BCBS Renewal Paperwork for groups effective January 1st\, 2019
DESCRIPTION:
URL:https://www.mibsga.com/calendar/due-thursday-november-29th-2018-bcbs-renewal-paperwork-for-groups-effective-january-1st-2019/
CATEGORIES:BCBS Group Due Dates
END:VEVENT
BEGIN:VEVENT
DTSTART;VALUE=DATE:20181113
DTEND;VALUE=DATE:20181114
DTSTAMP:20260425T071313
CREATED:20180906T193325Z
LAST-MODIFIED:20181008T215220Z
UID:23168-1542067200-1542153599@www.mibsga.com
SUMMARY:Due Tuesday\, November 13th – BCBS Renewal Paperwork for groups effective December 15th 2018
DESCRIPTION:
URL:https://www.mibsga.com/calendar/due-tuesday-november-13th-bcbs-renewal-paperwork-for-groups-effective-december-15th-2018/
CATEGORIES:BCBS Group Due Dates
END:VEVENT
BEGIN:VEVENT
DTSTART;VALUE=DATE:20181030
DTEND;VALUE=DATE:20181031
DTSTAMP:20260425T071313
CREATED:20180215T000211Z
LAST-MODIFIED:20180906T193434Z
UID:21774-1540857600-1540943999@www.mibsga.com
SUMMARY:Due Tuesday\, October 30th – BCBS Renewal Paperwork for groups effective December 1st 2018
DESCRIPTION:
URL:https://www.mibsga.com/calendar/due-monday-october-15th-bcbs-renewal-paperwork-for-groups-effective-december-1st-2018/
CATEGORIES:BCBS Group Due Dates
END:VEVENT
BEGIN:VEVENT
DTSTART;VALUE=DATE:20181012
DTEND;VALUE=DATE:20181013
DTSTAMP:20260425T071313
CREATED:20180215T000152Z
LAST-MODIFIED:20180215T000152Z
UID:21773-1539302400-1539388799@www.mibsga.com
SUMMARY:Due Friday\, October 12th – BCBS Renewal Paperwork for groups effective November 15th 2018
DESCRIPTION:
URL:https://www.mibsga.com/calendar/due-friday-october-12th-bcbs-renewal-paperwork-for-groups-effective-november-15th-2018/
CATEGORIES:BCBS Group Due Dates
END:VEVENT
BEGIN:VEVENT
DTSTART;VALUE=DATE:20180928
DTEND;VALUE=DATE:20180929
DTSTAMP:20260425T071313
CREATED:20180215T000131Z
LAST-MODIFIED:20180215T000131Z
UID:21772-1538092800-1538179199@www.mibsga.com
SUMMARY:Due Friday\, September 28th – BCBS Renewal Paperwork for groups effective November 1st 2018
DESCRIPTION:
URL:https://www.mibsga.com/calendar/due-friday-september-28th-bcbs-renewal-paperwork-for-groups-effective-november-1st-2018/
CATEGORIES:BCBS Group Due Dates
END:VEVENT
BEGIN:VEVENT
DTSTART;VALUE=DATE:20180913
DTEND;VALUE=DATE:20180914
DTSTAMP:20260425T071313
CREATED:20180214T235914Z
LAST-MODIFIED:20180214T235914Z
UID:21765-1536796800-1536883199@www.mibsga.com
SUMMARY:Due Thursday\, September 13th – BCBS Renewal Paperwork for groups effective October 15th 2018
DESCRIPTION:
URL:https://www.mibsga.com/calendar/due-thursday-september-13th-bcbs-renewal-paperwork-for-groups-effective-october-15th-2018/
CATEGORIES:BCBS Group Due Dates
END:VEVENT
BEGIN:VEVENT
DTSTART;VALUE=DATE:20180830
DTEND;VALUE=DATE:20180831
DTSTAMP:20260425T071313
CREATED:20180214T235857Z
LAST-MODIFIED:20180214T235857Z
UID:21764-1535587200-1535673599@www.mibsga.com
SUMMARY:Due Thursday\, August 30th – BCBS Renewal Paperwork for groups effective October 1st 2018
DESCRIPTION:
URL:https://www.mibsga.com/calendar/due-thursday-august-30th-bcbs-renewal-paperwork-for-groups-effective-october-1st-2018/
CATEGORIES:BCBS Group Due Dates
END:VEVENT
BEGIN:VEVENT
DTSTART;VALUE=DATE:20180814
DTEND;VALUE=DATE:20180815
DTSTAMP:20260425T071313
CREATED:20180214T235839Z
LAST-MODIFIED:20180725T020351Z
UID:21763-1534204800-1534291199@www.mibsga.com
SUMMARY:Due Tuesday\, August 14th – BCBS Renewal Paperwork for groups effective September 15th 2018
DESCRIPTION:
URL:https://www.mibsga.com/calendar/due-tuesday-august-14th-bcbs-renewal-paperwork-for-groups-effective-september-14th-2018/
CATEGORIES:BCBS Group Due Dates
END:VEVENT
BEGIN:VEVENT
DTSTART;TZID=UTC:20180802T100000
DTEND;TZID=UTC:20180802T110000
DTSTAMP:20260425T071313
CREATED:20180717T190201Z
LAST-MODIFIED:20180719T211444Z
UID:22229-1533204000-1533207600@www.mibsga.com
SUMMARY:TASC Webinar
DESCRIPTION:
URL:https://www.mibsga.com/calendar/tasc-webinar/
END:VEVENT
BEGIN:VEVENT
DTSTART;VALUE=DATE:20180731
DTEND;VALUE=DATE:20180801
DTSTAMP:20260425T071313
CREATED:20180214T235821Z
LAST-MODIFIED:20180214T235821Z
UID:21762-1532995200-1533081599@www.mibsga.com
SUMMARY:Due Tuesday\, July 31st – BCBS Renewal Paperwork for groups effective September 1st 2018
DESCRIPTION:
URL:https://www.mibsga.com/calendar/due-tuesday-july-31st-bcbs-renewal-paperwork-for-groups-effective-september-1st-2018/
CATEGORIES:BCBS Group Due Dates
END:VEVENT
BEGIN:VEVENT
DTSTART;VALUE=DATE:20180712
DTEND;VALUE=DATE:20180713
DTSTAMP:20260425T071313
CREATED:20180214T235804Z
LAST-MODIFIED:20180214T235804Z
UID:21761-1531353600-1531439999@www.mibsga.com
SUMMARY:Due Thursday\, July 12th – BCBS Renewal Paperwork for groups effective August 15th 2018
DESCRIPTION:
URL:https://www.mibsga.com/calendar/due-thursday-july-12th-bcbs-renewal-paperwork-for-groups-effective-august-15th-2018/
CATEGORIES:BCBS Group Due Dates
END:VEVENT
BEGIN:VEVENT
DTSTART;VALUE=DATE:20180628
DTEND;VALUE=DATE:20180629
DTSTAMP:20260425T071313
CREATED:20180214T235745Z
LAST-MODIFIED:20180214T235745Z
UID:21760-1530144000-1530230399@www.mibsga.com
SUMMARY:Due Thursday\, June 28th – BCBS Renewal Paperwork for groups effective August 1st 2018
DESCRIPTION:
URL:https://www.mibsga.com/calendar/due-thursday-june-28th-bcbs-renewal-paperwork-for-groups-effective-august-1st-2018/
CATEGORIES:BCBS Group Due Dates
END:VEVENT
BEGIN:VEVENT
DTSTART;VALUE=DATE:20180613
DTEND;VALUE=DATE:20180614
DTSTAMP:20260425T071313
CREATED:20180214T235507Z
LAST-MODIFIED:20180214T235507Z
UID:21755-1528848000-1528934399@www.mibsga.com
SUMMARY:Due Wednesday\, June 13th – BCBS Renewal Paperwork for groups effective July 15th 2018
DESCRIPTION:
URL:https://www.mibsga.com/calendar/due-wednesday-june-13th-bcbs-renewal-paperwork-for-groups-effective-july-15th-2018/
CATEGORIES:BCBS Group Due Dates
END:VEVENT
BEGIN:VEVENT
DTSTART;VALUE=DATE:20180530
DTEND;VALUE=DATE:20180531
DTSTAMP:20260425T071313
CREATED:20180214T235449Z
LAST-MODIFIED:20180214T235449Z
UID:21754-1527638400-1527724799@www.mibsga.com
SUMMARY:Due Wednesday\, May 30th – BCBS Renewal Paperwork for groups effective July 1st 2018
DESCRIPTION:
URL:https://www.mibsga.com/calendar/due-wednesday-may-30th-bcbs-renewal-paperwork-for-groups-effective-july-1st-2018/
CATEGORIES:BCBS Group Due Dates
END:VEVENT
BEGIN:VEVENT
DTSTART;VALUE=DATE:20180514
DTEND;VALUE=DATE:20180515
DTSTAMP:20260425T071313
CREATED:20180214T235434Z
LAST-MODIFIED:20180214T235434Z
UID:21753-1526256000-1526342399@www.mibsga.com
SUMMARY:Due Monday\, May 14th – BCBS Renewal Paperwork for groups effective June 15th 2018
DESCRIPTION:
URL:https://www.mibsga.com/calendar/due-monday-may-14th-bcbs-renewal-paperwork-for-groups-effective-june-15th-2018/
CATEGORIES:BCBS Group Due Dates
END:VEVENT
END:VCALENDAR