BEGIN:VCALENDAR
VERSION:2.0
PRODID:-//Midwest Insurance Brokerage Services Inc - ECPv6.15.20//NONSGML v1.0//EN
CALSCALE:GREGORIAN
METHOD:PUBLISH
X-WR-CALNAME:Midwest Insurance Brokerage Services Inc
X-ORIGINAL-URL:https://www.mibsga.com
X-WR-CALDESC:Events for Midwest Insurance Brokerage Services Inc
REFRESH-INTERVAL;VALUE=DURATION:PT1H
X-Robots-Tag:noindex
X-PUBLISHED-TTL:PT1H
BEGIN:VTIMEZONE
TZID:America/Chicago
BEGIN:DAYLIGHT
TZOFFSETFROM:-0600
TZOFFSETTO:-0500
TZNAME:CDT
DTSTART:20230312T080000
END:DAYLIGHT
BEGIN:STANDARD
TZOFFSETFROM:-0500
TZOFFSETTO:-0600
TZNAME:CST
DTSTART:20231105T070000
END:STANDARD
BEGIN:DAYLIGHT
TZOFFSETFROM:-0600
TZOFFSETTO:-0500
TZNAME:CDT
DTSTART:20240310T080000
END:DAYLIGHT
BEGIN:STANDARD
TZOFFSETFROM:-0500
TZOFFSETTO:-0600
TZNAME:CST
DTSTART:20241103T070000
END:STANDARD
BEGIN:DAYLIGHT
TZOFFSETFROM:-0600
TZOFFSETTO:-0500
TZNAME:CDT
DTSTART:20250309T080000
END:DAYLIGHT
BEGIN:STANDARD
TZOFFSETFROM:-0500
TZOFFSETTO:-0600
TZNAME:CST
DTSTART:20251102T070000
END:STANDARD
BEGIN:DAYLIGHT
TZOFFSETFROM:-0600
TZOFFSETTO:-0500
TZNAME:CDT
DTSTART:20260308T080000
END:DAYLIGHT
BEGIN:STANDARD
TZOFFSETFROM:-0500
TZOFFSETTO:-0600
TZNAME:CST
DTSTART:20261101T070000
END:STANDARD
END:VTIMEZONE
BEGIN:VTIMEZONE
TZID:UTC
BEGIN:STANDARD
TZOFFSETFROM:+0000
TZOFFSETTO:+0000
TZNAME:UTC
DTSTART:20230101T000000
END:STANDARD
END:VTIMEZONE
BEGIN:VEVENT
DTSTART;TZID=America/Chicago:20250912T080000
DTEND;TZID=America/Chicago:20250912T170000
DTSTAMP:20260423T135121
CREATED:20241024T004800Z
LAST-MODIFIED:20241024T004800Z
UID:34511-1757664000-1757696400@www.mibsga.com
SUMMARY:Due Date for October 15th BCBSIL Group Renewal Paperwork
DESCRIPTION:
URL:https://www.mibsga.com/calendar/due-date-for-october-15th-bcbsil-group-renewal-paperwork-2/
CATEGORIES:BCBS Group Due Dates
END:VEVENT
BEGIN:VEVENT
DTSTART;TZID=America/Chicago:20250829T080000
DTEND;TZID=America/Chicago:20250829T170000
DTSTAMP:20260423T135121
CREATED:20241024T004727Z
LAST-MODIFIED:20241024T004727Z
UID:34509-1756454400-1756486800@www.mibsga.com
SUMMARY:Due Date for October 1st BCBSIL Group Renewal Paperwork
DESCRIPTION:
URL:https://www.mibsga.com/calendar/due-date-for-october-1st-bcbsil-group-renewal-paperwork-2/
CATEGORIES:BCBS Group Due Dates
END:VEVENT
BEGIN:VEVENT
DTSTART;TZID=America/Chicago:20250814T080000
DTEND;TZID=America/Chicago:20250814T170000
DTSTAMP:20260423T135121
CREATED:20241024T004702Z
LAST-MODIFIED:20241024T004702Z
UID:34507-1755158400-1755190800@www.mibsga.com
SUMMARY:Due Date for September 15th BCBSIL Group Renewal Paperwork
DESCRIPTION:
URL:https://www.mibsga.com/calendar/due-date-for-september-15th-bcbsil-group-renewal-paperwork-2/
CATEGORIES:BCBS Group Due Dates
END:VEVENT
BEGIN:VEVENT
DTSTART;TZID=America/Chicago:20250731T080000
DTEND;TZID=America/Chicago:20250731T170000
DTSTAMP:20260423T135122
CREATED:20241024T004635Z
LAST-MODIFIED:20241024T004635Z
UID:34505-1753948800-1753981200@www.mibsga.com
SUMMARY:Due Date for September 1st BCBSIL Group Renewal Paperwork
DESCRIPTION:
URL:https://www.mibsga.com/calendar/due-date-for-september-1st-bcbsil-group-renewal-paperwork-2/
CATEGORIES:BCBS Group Due Dates
END:VEVENT
BEGIN:VEVENT
DTSTART;TZID=America/Chicago:20250714T080000
DTEND;TZID=America/Chicago:20250714T170000
DTSTAMP:20260423T135122
CREATED:20241024T004603Z
LAST-MODIFIED:20241024T004603Z
UID:34503-1752480000-1752512400@www.mibsga.com
SUMMARY:Due Date for August 15th BCBSIL Group Renewal Paperwork
DESCRIPTION:
URL:https://www.mibsga.com/calendar/due-date-for-august-15th-bcbsil-group-renewal-paperwork-2/
CATEGORIES:BCBS Group Due Dates
END:VEVENT
BEGIN:VEVENT
DTSTART;TZID=America/Chicago:20250630T080000
DTEND;TZID=America/Chicago:20250630T170000
DTSTAMP:20260423T135122
CREATED:20241024T004538Z
LAST-MODIFIED:20241024T004538Z
UID:34501-1751270400-1751302800@www.mibsga.com
SUMMARY:Due Date for August 1st BCBSIL Group Renewal Paperwork
DESCRIPTION:
URL:https://www.mibsga.com/calendar/due-date-for-august-1st-bcbsil-group-renewal-paperwork-2/
CATEGORIES:BCBS Group Due Dates
END:VEVENT
BEGIN:VEVENT
DTSTART;TZID=America/Chicago:20250613T080000
DTEND;TZID=America/Chicago:20250613T170000
DTSTAMP:20260423T135122
CREATED:20241024T004515Z
LAST-MODIFIED:20241024T004515Z
UID:34499-1749801600-1749834000@www.mibsga.com
SUMMARY:Due Date for July 15th BCBSIL Group Renewal Paperwork
DESCRIPTION:
URL:https://www.mibsga.com/calendar/due-date-for-july-15th-bcbsil-group-renewal-paperwork-2/
CATEGORIES:BCBS Group Due Dates
END:VEVENT
BEGIN:VEVENT
DTSTART;TZID=America/Chicago:20250530T080000
DTEND;TZID=America/Chicago:20250530T170000
DTSTAMP:20260423T135122
CREATED:20241024T004448Z
LAST-MODIFIED:20241024T004448Z
UID:34497-1748592000-1748624400@www.mibsga.com
SUMMARY:Due Date for July 1st BCBSIL Group Renewal Paperwork
DESCRIPTION:
URL:https://www.mibsga.com/calendar/due-date-for-july-1st-bcbsil-group-renewal-paperwork-2/
CATEGORIES:BCBS Group Due Dates
END:VEVENT
BEGIN:VEVENT
DTSTART;TZID=America/Chicago:20250514T080000
DTEND;TZID=America/Chicago:20250514T170000
DTSTAMP:20260423T135122
CREATED:20241024T004423Z
LAST-MODIFIED:20241024T004423Z
UID:34495-1747209600-1747242000@www.mibsga.com
SUMMARY:Due Date for June 15th BCBSIL Group Renewal Paperwork
DESCRIPTION:
URL:https://www.mibsga.com/calendar/due-date-for-june-15th-bcbsil-group-renewal-paperwork-2/
CATEGORIES:BCBS Group Due Dates
END:VEVENT
BEGIN:VEVENT
DTSTART;TZID=America/Chicago:20250430T080000
DTEND;TZID=America/Chicago:20250430T170000
DTSTAMP:20260423T135122
CREATED:20241024T004400Z
LAST-MODIFIED:20241024T004400Z
UID:34493-1746000000-1746032400@www.mibsga.com
SUMMARY:Due Date for June 1st BCBSIL Group Renewal Paperwork
DESCRIPTION:
URL:https://www.mibsga.com/calendar/due-date-for-june-1st-bcbsil-group-renewal-paperwork-2/
CATEGORIES:BCBS Group Due Dates
END:VEVENT
BEGIN:VEVENT
DTSTART;TZID=America/Chicago:20250414T080000
DTEND;TZID=America/Chicago:20250414T170000
DTSTAMP:20260423T135122
CREATED:20241024T004334Z
LAST-MODIFIED:20241024T004334Z
UID:34491-1744617600-1744650000@www.mibsga.com
SUMMARY:Due Date for May 15th BCBSIL Group Renewal Paperwork
DESCRIPTION:
URL:https://www.mibsga.com/calendar/due-date-for-may-15th-bcbsil-group-renewal-paperwork-2/
CATEGORIES:BCBS Group Due Dates
END:VEVENT
BEGIN:VEVENT
DTSTART;TZID=America/Chicago:20250331T080000
DTEND;TZID=America/Chicago:20250331T170000
DTSTAMP:20260423T135122
CREATED:20241024T004306Z
LAST-MODIFIED:20241024T004306Z
UID:34489-1743408000-1743440400@www.mibsga.com
SUMMARY:Due Date for May 1st BCBSIL Group Renewal Paperwork
DESCRIPTION:
URL:https://www.mibsga.com/calendar/due-date-for-may-1st-bcbsil-group-renewal-paperwork-2/
CATEGORIES:BCBS Group Due Dates
END:VEVENT
BEGIN:VEVENT
DTSTART;TZID=America/Chicago:20250314T080000
DTEND;TZID=America/Chicago:20250314T170000
DTSTAMP:20260423T135122
CREATED:20241024T004235Z
LAST-MODIFIED:20241024T004235Z
UID:34487-1741939200-1741971600@www.mibsga.com
SUMMARY:Due Date for April 15th BCBSIL Group Renewal Paperwork
DESCRIPTION:
URL:https://www.mibsga.com/calendar/due-date-for-april-15th-bcbsil-group-renewal-paperwork-2/
CATEGORIES:BCBS Group Due Dates
END:VEVENT
BEGIN:VEVENT
DTSTART;TZID=America/Chicago:20250228T080000
DTEND;TZID=America/Chicago:20250228T170000
DTSTAMP:20260423T135122
CREATED:20241024T004208Z
LAST-MODIFIED:20241024T004208Z
UID:34485-1740729600-1740762000@www.mibsga.com
SUMMARY:Due Date for April 1st BCBSIL Group Renewal Paperwork
DESCRIPTION:
URL:https://www.mibsga.com/calendar/due-date-for-april-1st-bcbsil-group-renewal-paperwork-2/
CATEGORIES:BCBS Group Due Dates
END:VEVENT
BEGIN:VEVENT
DTSTART;TZID=America/Chicago:20250214T080000
DTEND;TZID=America/Chicago:20250214T170000
DTSTAMP:20260423T135122
CREATED:20241024T004139Z
LAST-MODIFIED:20241024T004139Z
UID:34483-1739520000-1739552400@www.mibsga.com
SUMMARY:Due Date for March 15th BCBSIL Group Renewal Paperwork
DESCRIPTION:
URL:https://www.mibsga.com/calendar/due-date-for-march-15th-bcbsil-group-renewal-paperwork-2/
CATEGORIES:BCBS Group Due Dates
END:VEVENT
BEGIN:VEVENT
DTSTART;TZID=America/Chicago:20250131T080000
DTEND;TZID=America/Chicago:20250131T170000
DTSTAMP:20260423T135122
CREATED:20241024T004104Z
LAST-MODIFIED:20241024T004104Z
UID:34481-1738310400-1738342800@www.mibsga.com
SUMMARY:Due Date for March 1st BCBSIL Group Renewal Paperwork
DESCRIPTION:
URL:https://www.mibsga.com/calendar/due-date-for-march-1st-bcbsil-group-renewal-paperwork-2/
CATEGORIES:BCBS Group Due Dates
END:VEVENT
BEGIN:VEVENT
DTSTART;TZID=America/Chicago:20250114T080000
DTEND;TZID=America/Chicago:20250114T170000
DTSTAMP:20260423T135122
CREATED:20241024T004027Z
LAST-MODIFIED:20241024T004027Z
UID:34479-1736841600-1736874000@www.mibsga.com
SUMMARY:Due Date for February 15th BCBSIL Group Renewal Paperwork
DESCRIPTION:
URL:https://www.mibsga.com/calendar/due-date-for-february-15th-bcbsil-group-renewal-paperwork-2/
CATEGORIES:BCBS Group Due Dates
END:VEVENT
BEGIN:VEVENT
DTSTART;TZID=America/Chicago:20241230T080000
DTEND;TZID=America/Chicago:20241230T170000
DTSTAMP:20260423T135122
CREATED:20241024T003959Z
LAST-MODIFIED:20241024T003959Z
UID:34477-1735545600-1735578000@www.mibsga.com
SUMMARY:Due Date for February 1st BCBSIL Group Renewal Paperwork
DESCRIPTION:
URL:https://www.mibsga.com/calendar/due-date-for-february-1st-bcbsil-group-renewal-paperwork-2/
CATEGORIES:BCBS Group Due Dates
END:VEVENT
BEGIN:VEVENT
DTSTART;TZID=America/Chicago:20241213T080000
DTEND;TZID=America/Chicago:20241213T170000
DTSTAMP:20260423T135122
CREATED:20241024T003915Z
LAST-MODIFIED:20241024T003915Z
UID:34475-1734076800-1734109200@www.mibsga.com
SUMMARY:Due Date for January 15th BCBSIL Group Renewal Paperwork
DESCRIPTION:
URL:https://www.mibsga.com/calendar/due-date-for-january-15th-bcbsil-group-renewal-paperwork/
CATEGORIES:BCBS Group Due Dates
END:VEVENT
BEGIN:VEVENT
DTSTART;TZID=America/Chicago:20241127T080000
DTEND;TZID=America/Chicago:20241127T170000
DTSTAMP:20260423T135122
CREATED:20241024T003358Z
LAST-MODIFIED:20241024T003358Z
UID:34471-1732694400-1732726800@www.mibsga.com
SUMMARY:Due Date for January 1st BCBSIL Group Renewal Paperwork
DESCRIPTION:
URL:https://www.mibsga.com/calendar/due-date-for-january-1st-bcbsil-group-renewal-paperwork/
CATEGORIES:BCBS Group Due Dates
END:VEVENT
BEGIN:VEVENT
DTSTART;TZID=UTC:20241114T080000
DTEND;TZID=UTC:20241114T170000
DTSTAMP:20260423T135122
CREATED:20230904T055946Z
LAST-MODIFIED:20230904T055946Z
UID:33005-1731571200-1731603600@www.mibsga.com
SUMMARY:Due Date for December 15th BCBSIL Group Renewal Paperwork
DESCRIPTION:
URL:https://www.mibsga.com/calendar/due-date-for-december-15th-bcbsil-group-renewal-paperwork/
CATEGORIES:BCBS Group Due Dates
END:VEVENT
BEGIN:VEVENT
DTSTART;TZID=UTC:20241031T080000
DTEND;TZID=UTC:20241031T170000
DTSTAMP:20260423T135122
CREATED:20230904T055912Z
LAST-MODIFIED:20230904T055912Z
UID:33003-1730361600-1730394000@www.mibsga.com
SUMMARY:Due Date for December 1st BCBSIL Group Renewal Paperwork
DESCRIPTION:
URL:https://www.mibsga.com/calendar/due-date-for-december-1st-bcbsil-group-renewal-paperwork/
CATEGORIES:BCBS Group Due Dates
END:VEVENT
BEGIN:VEVENT
DTSTART;TZID=UTC:20241014T080000
DTEND;TZID=UTC:20241014T170000
DTSTAMP:20260423T135122
CREATED:20230904T055832Z
LAST-MODIFIED:20230904T055832Z
UID:33001-1728892800-1728925200@www.mibsga.com
SUMMARY:Due Date for November 15th BCBSIL Group Renewal Paperwork
DESCRIPTION:
URL:https://www.mibsga.com/calendar/due-date-for-november-15th-bcbsil-group-renewal-paperwork/
CATEGORIES:BCBS Group Due Dates
END:VEVENT
BEGIN:VEVENT
DTSTART;TZID=UTC:20240930T080000
DTEND;TZID=UTC:20240930T170000
DTSTAMP:20260423T135122
CREATED:20230904T055743Z
LAST-MODIFIED:20230904T055743Z
UID:32999-1727683200-1727715600@www.mibsga.com
SUMMARY:Due Date for November 1st BCBSIL Group Renewal Paperwork
DESCRIPTION:
URL:https://www.mibsga.com/calendar/due-date-for-november-1st-bcbsil-group-renewal-paperwork/
CATEGORIES:BCBS Group Due Dates
END:VEVENT
BEGIN:VEVENT
DTSTART;TZID=UTC:20240913T080000
DTEND;TZID=UTC:20240913T170000
DTSTAMP:20260423T135122
CREATED:20230904T055705Z
LAST-MODIFIED:20230904T055705Z
UID:32997-1726214400-1726246800@www.mibsga.com
SUMMARY:Due Date for October 15th BCBSIL Group Renewal Paperwork
DESCRIPTION:
URL:https://www.mibsga.com/calendar/due-date-for-october-15th-bcbsil-group-renewal-paperwork/
CATEGORIES:BCBS Group Due Dates
END:VEVENT
BEGIN:VEVENT
DTSTART;TZID=UTC:20240830T080000
DTEND;TZID=UTC:20240830T170000
DTSTAMP:20260423T135122
CREATED:20230904T055620Z
LAST-MODIFIED:20230904T055620Z
UID:32995-1725004800-1725037200@www.mibsga.com
SUMMARY:Due Date for October 1st BCBSIL Group Renewal Paperwork
DESCRIPTION:
URL:https://www.mibsga.com/calendar/due-date-for-october-1st-bcbsil-group-renewal-paperwork/
CATEGORIES:BCBS Group Due Dates
END:VEVENT
BEGIN:VEVENT
DTSTART;TZID=UTC:20240814T080000
DTEND;TZID=UTC:20240814T170000
DTSTAMP:20260423T135122
CREATED:20230904T055537Z
LAST-MODIFIED:20230904T055537Z
UID:32993-1723622400-1723654800@www.mibsga.com
SUMMARY:Due Date for September 15th BCBSIL Group Renewal Paperwork
DESCRIPTION:
URL:https://www.mibsga.com/calendar/due-date-for-september-15th-bcbsil-group-renewal-paperwork/
CATEGORIES:BCBS Group Due Dates
END:VEVENT
BEGIN:VEVENT
DTSTART;TZID=UTC:20240731T080000
DTEND;TZID=UTC:20240731T170000
DTSTAMP:20260423T135122
CREATED:20230904T055454Z
LAST-MODIFIED:20230904T055454Z
UID:32991-1722412800-1722445200@www.mibsga.com
SUMMARY:Due Date for September 1st BCBSIL Group Renewal Paperwork
DESCRIPTION:
URL:https://www.mibsga.com/calendar/due-date-for-september-1st-bcbsil-group-renewal-paperwork/
CATEGORIES:BCBS Group Due Dates
END:VEVENT
BEGIN:VEVENT
DTSTART;TZID=UTC:20240712T080000
DTEND;TZID=UTC:20240712T170000
DTSTAMP:20260423T135122
CREATED:20230904T055406Z
LAST-MODIFIED:20230904T055406Z
UID:32989-1720771200-1720803600@www.mibsga.com
SUMMARY:Due Date for August 15th BCBSIL Group Renewal Paperwork
DESCRIPTION:
URL:https://www.mibsga.com/calendar/due-date-for-august-15th-bcbsil-group-renewal-paperwork/
CATEGORIES:BCBS Group Due Dates
END:VEVENT
BEGIN:VEVENT
DTSTART;TZID=UTC:20240628T080000
DTEND;TZID=UTC:20240628T170000
DTSTAMP:20260423T135122
CREATED:20230904T055331Z
LAST-MODIFIED:20230904T055331Z
UID:32987-1719561600-1719594000@www.mibsga.com
SUMMARY:Due Date for August 1st BCBSIL Group Renewal Paperwork
DESCRIPTION:
URL:https://www.mibsga.com/calendar/due-date-for-august-1st-bcbsil-group-renewal-paperwork/
CATEGORIES:BCBS Group Due Dates
END:VEVENT
END:VCALENDAR