BEGIN:VCALENDAR
VERSION:2.0
PRODID:-//Midwest Insurance Brokerage Services Inc - ECPv6.15.20//NONSGML v1.0//EN
CALSCALE:GREGORIAN
METHOD:PUBLISH
X-WR-CALNAME:Midwest Insurance Brokerage Services Inc
X-ORIGINAL-URL:https://www.mibsga.com
X-WR-CALDESC:Events for Midwest Insurance Brokerage Services Inc
REFRESH-INTERVAL;VALUE=DURATION:PT1H
X-Robots-Tag:noindex
X-PUBLISHED-TTL:PT1H
BEGIN:VTIMEZONE
TZID:America/Chicago
BEGIN:DAYLIGHT
TZOFFSETFROM:-0600
TZOFFSETTO:-0500
TZNAME:CDT
DTSTART:20130310T080000
END:DAYLIGHT
BEGIN:STANDARD
TZOFFSETFROM:-0500
TZOFFSETTO:-0600
TZNAME:CST
DTSTART:20131103T070000
END:STANDARD
BEGIN:DAYLIGHT
TZOFFSETFROM:-0600
TZOFFSETTO:-0500
TZNAME:CDT
DTSTART:20140309T080000
END:DAYLIGHT
BEGIN:STANDARD
TZOFFSETFROM:-0500
TZOFFSETTO:-0600
TZNAME:CST
DTSTART:20141102T070000
END:STANDARD
BEGIN:DAYLIGHT
TZOFFSETFROM:-0600
TZOFFSETTO:-0500
TZNAME:CDT
DTSTART:20150308T080000
END:DAYLIGHT
BEGIN:STANDARD
TZOFFSETFROM:-0500
TZOFFSETTO:-0600
TZNAME:CST
DTSTART:20151101T070000
END:STANDARD
BEGIN:DAYLIGHT
TZOFFSETFROM:-0600
TZOFFSETTO:-0500
TZNAME:CDT
DTSTART:20160313T080000
END:DAYLIGHT
BEGIN:STANDARD
TZOFFSETFROM:-0500
TZOFFSETTO:-0600
TZNAME:CST
DTSTART:20161106T070000
END:STANDARD
END:VTIMEZONE
BEGIN:VEVENT
DTSTART;TZID=America/Chicago:20150430T100000
DTEND;TZID=America/Chicago:20150430T140000
DTSTAMP:20260425T071156
CREATED:20150311T224927Z
LAST-MODIFIED:20150311T225158Z
UID:13143-1430388000-1430402400@www.mibsga.com
SUMMARY:Personal Lines
DESCRIPTION:In order to reserve a seat\, you must email Patty@midwestga.com.
URL:https://www.mibsga.com/calendar/personal-lines/
END:VEVENT
BEGIN:VEVENT
DTSTART;TZID=America/Chicago:20150416T100000
DTEND;TZID=America/Chicago:20150416T130000
DTSTAMP:20260425T071156
CREATED:20150311T224901Z
LAST-MODIFIED:20150311T225226Z
UID:13142-1429178400-1429189200@www.mibsga.com
SUMMARY:Enhanced Property & Casualty
DESCRIPTION:In order to reserve your seat\, you must email Patty@midwestga.com.
URL:https://www.mibsga.com/calendar/enhanced-property-casualty/
END:VEVENT
BEGIN:VEVENT
DTSTART;TZID=America/Chicago:20150219T100000
DTEND;TZID=America/Chicago:20150219T140000
DTSTAMP:20260425T071156
CREATED:20141203T025054Z
LAST-MODIFIED:20141203T025054Z
UID:12594-1424340000-1424354400@www.mibsga.com
SUMMARY:Small Group Market 2015 Seminar
DESCRIPTION:We will present 2015 plan changes\, quoting\, and compliance. SPACE IS LIMITED. RESERVE A SEAT – REGISTER VIA EMAIL TO: kerry@midwestga.com
URL:https://www.mibsga.com/calendar/small-group-market-2015-seminar-2/
LOCATION:Midwest Insurance Brokerage Service\, 54 W seegers road\, Arlington Heights\, 60005
ORGANIZER;CN="Kerry ":MAILTO:kerry@midwestga.com
END:VEVENT
BEGIN:VEVENT
DTSTART;TZID=America/Chicago:20150129T100000
DTEND;TZID=America/Chicago:20150129T140000
DTSTAMP:20260425T071156
CREATED:20141203T022403Z
LAST-MODIFIED:20141203T022518Z
UID:12592-1422525600-1422540000@www.mibsga.com
SUMMARY:Individual Market 2015 Seminar
DESCRIPTION:We will present 2015 plan changes and re-enrollment information. SPACE IS LIMITED. RESERVE A SEAT – REGISTER VIA EMAIL TO: kerry@midwestga.com
URL:https://www.mibsga.com/calendar/2015-individual-market-seminar-2/
LOCATION:Midwest Insurance Brokerage Service\, 54 W seegers road\, Arlington Heights\, 60005
ORGANIZER;CN="Kerry ":MAILTO:kerry@midwestga.com
END:VEVENT
BEGIN:VEVENT
DTSTART;TZID=America/Chicago:20150115T100000
DTEND;TZID=America/Chicago:20150115T140000
DTSTAMP:20260425T071156
CREATED:20141203T024917Z
LAST-MODIFIED:20141203T024917Z
UID:12593-1421316000-1421330400@www.mibsga.com
SUMMARY:Small Group Market 2015 Seminar
DESCRIPTION:We will present 2015 plan changes\, quoting\, and compliance. SPACE IS LIMITED. RESERVE A SEAT – REGISTER VIA EMAIL TO: kerry@midwestga.com
URL:https://www.mibsga.com/calendar/small-group-market-2015-seminar/
LOCATION:Midwest Insurance Brokerage Service\, 54 W seegers road\, Arlington Heights\, 60005
ORGANIZER;CN="Kerry ":MAILTO:kerry@midwestga.com
END:VEVENT
BEGIN:VEVENT
DTSTART;TZID=America/Chicago:20141211T100000
DTEND;TZID=America/Chicago:20141211T140000
DTSTAMP:20260425T071156
CREATED:20141008T004356Z
LAST-MODIFIED:20141201T210931Z
UID:12031-1418292000-1418306400@www.mibsga.com
SUMMARY:Individual Market 2015 Seminar
DESCRIPTION:We will present 2015 plan changes and re-enrollment information. SPACE IS LIMITED. RESERVE A SEAT – REGISTER VIA EMAIL TO: kerry@midwestga.com
URL:https://www.mibsga.com/calendar/individual-market-2015-seminar-5/
LOCATION:Midwest Insurance Brokerage Service\, 54 W seegers road\, Arlington Heights\, 60005
ORGANIZER;CN="Kerry ":MAILTO:kerry@midwestga.com
END:VEVENT
BEGIN:VEVENT
DTSTART;TZID=America/Chicago:20141113T100000
DTEND;TZID=America/Chicago:20141113T140000
DTSTAMP:20260425T071156
CREATED:20141008T004243Z
LAST-MODIFIED:20141008T004243Z
UID:12030-1415872800-1415887200@www.mibsga.com
SUMMARY:Individual Market 2015 Seminar
DESCRIPTION:We will present 2015 plan changes and reenrollment information. \nSPACE IS LIMITED. RESERVE A SEAT – REGISTER VIA EMAIL TO: kerry@midwestga.com
URL:https://www.mibsga.com/calendar/individual-market-2015-seminar-4/
LOCATION:Midwest Insurance Brokerage Service\, 54 W seegers road\, Arlington Heights\, 60005
ORGANIZER;CN="Kerry ":MAILTO:kerry@midwestga.com
END:VEVENT
BEGIN:VEVENT
DTSTART;TZID=America/Chicago:20141106T100000
DTEND;TZID=America/Chicago:20141106T140000
DTSTAMP:20260425T071156
CREATED:20141008T004042Z
LAST-MODIFIED:20141008T004042Z
UID:12029-1415268000-1415282400@www.mibsga.com
SUMMARY:Individual Market 2015 Seminar
DESCRIPTION:We will present 2015 plan changes and reenrollment information. \nSPACE IS LIMITED. RESERVE A SEAT – REGISTER VIA EMAIL TO: kerry@midwestga.com
URL:https://www.mibsga.com/calendar/individual-market-2015-seminar-3/
LOCATION:Midwest Insurance Brokerage Service\, 54 W seegers road\, Arlington Heights\, 60005
ORGANIZER;CN="Kerry ":MAILTO:kerry@midwestga.com
END:VEVENT
BEGIN:VEVENT
DTSTART;TZID=America/Chicago:20141028T100000
DTEND;TZID=America/Chicago:20141028T140000
DTSTAMP:20260425T071156
CREATED:20141001T190439Z
LAST-MODIFIED:20141001T190439Z
UID:12002-1414490400-1414504800@www.mibsga.com
SUMMARY:Individual Market 2015 Seminar
DESCRIPTION:We will present 2015 plan changes and reenrollment information. \nSPACE IS LIMITED. RESERVE A SEAT – REGISTER VIA EMAIL TO: kerry@midwestga.com
URL:https://www.mibsga.com/calendar/individual-market-2015-seminar-2/
LOCATION:Midwest Insurance Brokerage Service\, 54 W seegers road\, Arlington Heights\, 60005
ORGANIZER;CN="Kerry ":MAILTO:kerry@midwestga.com
END:VEVENT
BEGIN:VEVENT
DTSTART;TZID=America/Chicago:20141023T100000
DTEND;TZID=America/Chicago:20141023T140000
DTSTAMP:20260425T071156
CREATED:20141001T185446Z
LAST-MODIFIED:20141001T185446Z
UID:12001-1414058400-1414072800@www.mibsga.com
SUMMARY:Individual Market 2015 Seminar
DESCRIPTION:We will present 2015 plan changes and reenrollment information. \nSPACE IS LIMITED. RESERVE A SEAT – REGISTER VIA EMAIL TO: kerry@midwestga.com
URL:https://www.mibsga.com/calendar/individual-market-2015-seminar/
LOCATION:Midwest Insurance Brokerage Service\, 54 W seegers road\, Arlington Heights\, 60005
ORGANIZER;CN="Kerry ":MAILTO:kerry@midwestga.com
END:VEVENT
BEGIN:VEVENT
DTSTART;TZID=America/Chicago:20141016T100000
DTEND;TZID=America/Chicago:20141016T140000
DTSTAMP:20260425T071156
CREATED:20140904T220046Z
LAST-MODIFIED:20141001T184714Z
UID:11826-1413453600-1413468000@www.mibsga.com
SUMMARY:Individual Market 2015 Seminar
DESCRIPTION:We will present 2015 plan changes and reenrollment information. \nSPACE IS LIMITED. RESERVE A SEAT – REGISTER VIA EMAIL TO: kerry@midwestga.com
URL:https://www.mibsga.com/calendar/healthcare-seminar-individual-sample-test/
LOCATION:Midwest Insurance Brokerage Service\, 54 W seegers road\, Arlington Heights\, 60005
ORGANIZER;CN="Kerry ":MAILTO:kerry@midwestga.com
END:VEVENT
END:VCALENDAR