BEGIN:VCALENDAR
VERSION:2.0
PRODID:-//Midwest Insurance Brokerage Services Inc - ECPv6.15.20//NONSGML v1.0//EN
CALSCALE:GREGORIAN
METHOD:PUBLISH
X-ORIGINAL-URL:https://www.mibsga.com
X-WR-CALDESC:Events for Midwest Insurance Brokerage Services Inc
REFRESH-INTERVAL;VALUE=DURATION:PT1H
X-Robots-Tag:noindex
X-PUBLISHED-TTL:PT1H
BEGIN:VTIMEZONE
TZID:UTC
BEGIN:STANDARD
TZOFFSETFROM:+0000
TZOFFSETTO:+0000
TZNAME:UTC
DTSTART:20210101T000000
END:STANDARD
END:VTIMEZONE
BEGIN:VEVENT
DTSTART;VALUE=DATE:20231031
DTEND;VALUE=DATE:20231101
DTSTAMP:20260423T185239
CREATED:20221116T024651Z
LAST-MODIFIED:20221116T024651Z
UID:29109-1698710400-1698796799@www.mibsga.com
SUMMARY:Due Date for December 1st Renewal Paperwork is due October 31st
DESCRIPTION:
URL:https://www.mibsga.com/calendar/due-date-for-december-1st-renewal-paperwork-is-due-october-31st/
END:VEVENT
BEGIN:VEVENT
DTSTART;VALUE=DATE:20231013
DTEND;VALUE=DATE:20231014
DTSTAMP:20260423T185239
CREATED:20221116T024334Z
LAST-MODIFIED:20221116T024334Z
UID:29107-1697155200-1697241599@www.mibsga.com
SUMMARY:Due Date for November 15th Renewal Paperwork is due October 13th
DESCRIPTION:
URL:https://www.mibsga.com/calendar/due-date-for-november-15th-renewal-paperwork-is-due-october-13th/
END:VEVENT
BEGIN:VEVENT
DTSTART;VALUE=DATE:20230929
DTEND;VALUE=DATE:20230930
DTSTAMP:20260423T185239
CREATED:20221116T024206Z
LAST-MODIFIED:20221116T024206Z
UID:29105-1695945600-1696031999@www.mibsga.com
SUMMARY:Due Date for November 1st Renewal Paperwork is due September 29th
DESCRIPTION:
URL:https://www.mibsga.com/calendar/due-date-for-november-1st-renewal-paperwork-is-due-september-29th/
END:VEVENT
BEGIN:VEVENT
DTSTART;VALUE=DATE:20230914
DTEND;VALUE=DATE:20230915
DTSTAMP:20260423T185239
CREATED:20221116T024050Z
LAST-MODIFIED:20221116T024050Z
UID:29103-1694649600-1694735999@www.mibsga.com
SUMMARY:Due Date for October 15th Renewal Paperwork is due September 14th
DESCRIPTION:
URL:https://www.mibsga.com/calendar/due-date-for-october-15th-renewal-paperwork-is-due-september-14th/
END:VEVENT
BEGIN:VEVENT
DTSTART;VALUE=DATE:20230831
DTEND;VALUE=DATE:20230901
DTSTAMP:20260423T185239
CREATED:20221116T023918Z
LAST-MODIFIED:20221116T023918Z
UID:29101-1693440000-1693526399@www.mibsga.com
SUMMARY:Due Date for October 1st Renewal Paperwork is due August 31st
DESCRIPTION:
URL:https://www.mibsga.com/calendar/due-date-for-october-1st-renewal-paperwork-is-due-august-31st/
END:VEVENT
BEGIN:VEVENT
DTSTART;VALUE=DATE:20230814
DTEND;VALUE=DATE:20230815
DTSTAMP:20260423T185239
CREATED:20221116T023750Z
LAST-MODIFIED:20221116T023750Z
UID:29099-1691971200-1692057599@www.mibsga.com
SUMMARY:Due Date for September 15th Renewal Paperwork is due August 14th
DESCRIPTION:
URL:https://www.mibsga.com/calendar/due-date-for-september-15th-renewal-paperwork-is-due-august-14th/
END:VEVENT
BEGIN:VEVENT
DTSTART;VALUE=DATE:20230731
DTEND;VALUE=DATE:20230801
DTSTAMP:20260423T185239
CREATED:20221116T023435Z
LAST-MODIFIED:20221116T023435Z
UID:29095-1690761600-1690847999@www.mibsga.com
SUMMARY:Due Date for September 1st Renewal Paperwork is due July 31st
DESCRIPTION:
URL:https://www.mibsga.com/calendar/due-date-for-september-1st-renewal-paperwork-is-due-july-31st/
END:VEVENT
BEGIN:VEVENT
DTSTART;VALUE=DATE:20230714
DTEND;VALUE=DATE:20230715
DTSTAMP:20260423T185239
CREATED:20221116T023335Z
LAST-MODIFIED:20221116T023335Z
UID:29093-1689292800-1689379199@www.mibsga.com
SUMMARY:Due Date for August 15th Renewal Paperwork is due July 14th
DESCRIPTION:
URL:https://www.mibsga.com/calendar/due-date-for-august-15th-renewal-paperwork-is-due-july-14th/
END:VEVENT
BEGIN:VEVENT
DTSTART;VALUE=DATE:20230630
DTEND;VALUE=DATE:20230701
DTSTAMP:20260423T185239
CREATED:20221116T023233Z
LAST-MODIFIED:20221116T023233Z
UID:29091-1688083200-1688169599@www.mibsga.com
SUMMARY:Due Date for August 1st Renewal Paperwork is due June 30th
DESCRIPTION:
URL:https://www.mibsga.com/calendar/due-date-for-august-1st-renewal-paperwork-is-due-june-30th/
END:VEVENT
BEGIN:VEVENT
DTSTART;VALUE=DATE:20230614
DTEND;VALUE=DATE:20230615
DTSTAMP:20260423T185239
CREATED:20221116T022924Z
LAST-MODIFIED:20221116T022924Z
UID:29089-1686700800-1686787199@www.mibsga.com
SUMMARY:Due Date for July 15th Renewal Paperwork is due June 14th
DESCRIPTION:
URL:https://www.mibsga.com/calendar/due-date-for-july-15th-renewal-paperwork-is-due-june-14th/
END:VEVENT
BEGIN:VEVENT
DTSTART;VALUE=DATE:20230531
DTEND;VALUE=DATE:20230601
DTSTAMP:20260423T185239
CREATED:20221116T022656Z
LAST-MODIFIED:20221116T022656Z
UID:29087-1685491200-1685577599@www.mibsga.com
SUMMARY:Due Date for July 1st Renewal Paperwork is due May 31st
DESCRIPTION:
URL:https://www.mibsga.com/calendar/due-date-for-july-1st-renewal-paperwork-is-due-may-31st/
END:VEVENT
BEGIN:VEVENT
DTSTART;VALUE=DATE:20230512
DTEND;VALUE=DATE:20230513
DTSTAMP:20260423T185239
CREATED:20221116T022545Z
LAST-MODIFIED:20221116T022545Z
UID:29085-1683849600-1683935999@www.mibsga.com
SUMMARY:Due Date for June 15th Renewal Paperwork is due May 12th
DESCRIPTION:
URL:https://www.mibsga.com/calendar/due-date-for-june-15th-renewal-paperwork-is-due-may-12th/
END:VEVENT
BEGIN:VEVENT
DTSTART;VALUE=DATE:20230428
DTEND;VALUE=DATE:20230429
DTSTAMP:20260423T185239
CREATED:20221116T022237Z
LAST-MODIFIED:20221116T022237Z
UID:29083-1682640000-1682726399@www.mibsga.com
SUMMARY:Due Date for June 1st Renewal Paperwork is due April 28th
DESCRIPTION:
URL:https://www.mibsga.com/calendar/due-date-for-june-1st-renewal-paperwork-is-due-april-28th/
END:VEVENT
BEGIN:VEVENT
DTSTART;VALUE=DATE:20230413
DTEND;VALUE=DATE:20230414
DTSTAMP:20260423T185239
CREATED:20221116T022149Z
LAST-MODIFIED:20221116T022149Z
UID:29081-1681344000-1681430399@www.mibsga.com
SUMMARY:Due Date for May 15th Renewal Paperwork is due April 13th
DESCRIPTION:
URL:https://www.mibsga.com/calendar/due-date-for-may-15th-renewal-paperwork-is-due-april-13th/
END:VEVENT
BEGIN:VEVENT
DTSTART;VALUE=DATE:20230330
DTEND;VALUE=DATE:20230331
DTSTAMP:20260423T185239
CREATED:20221116T021604Z
LAST-MODIFIED:20221116T021604Z
UID:29079-1680134400-1680220799@www.mibsga.com
SUMMARY:Due Date for May 1st Renewal Paperwork is due March 30th
DESCRIPTION:
URL:https://www.mibsga.com/calendar/due-date-for-may-1st-renewal-paperwork-is-due-march-30th/
END:VEVENT
BEGIN:VEVENT
DTSTART;VALUE=DATE:20230314
DTEND;VALUE=DATE:20230315
DTSTAMP:20260423T185239
CREATED:20221116T021503Z
LAST-MODIFIED:20221116T021503Z
UID:29077-1678752000-1678838399@www.mibsga.com
SUMMARY:Due Date for April 15th Renewal Paperwork is due March 14th
DESCRIPTION:
URL:https://www.mibsga.com/calendar/due-date-for-april-15th-renewal-paperwork-is-due-march-14th/
END:VEVENT
BEGIN:VEVENT
DTSTART;VALUE=DATE:20230228
DTEND;VALUE=DATE:20230301
DTSTAMP:20260423T185239
CREATED:20221116T021159Z
LAST-MODIFIED:20221116T021307Z
UID:29075-1677542400-1677628799@www.mibsga.com
SUMMARY:Due Date for April 1st Renewal Paperwork is due February 28th
DESCRIPTION:
URL:https://www.mibsga.com/calendar/due-date-for-april-1st-renewal-paperwork-is-due-february-28th/
END:VEVENT
BEGIN:VEVENT
DTSTART;VALUE=DATE:20230214
DTEND;VALUE=DATE:20230215
DTSTAMP:20260423T185239
CREATED:20221116T020929Z
LAST-MODIFIED:20221116T021044Z
UID:29073-1676332800-1676419199@www.mibsga.com
SUMMARY:Due Date for March 15th Renewal Paperwork is due February 14th
DESCRIPTION:
URL:https://www.mibsga.com/calendar/due-date-for-march-15th-renewal-paperwork-is-due-february-14th/
END:VEVENT
BEGIN:VEVENT
DTSTART;VALUE=DATE:20230131
DTEND;VALUE=DATE:20230201
DTSTAMP:20260423T185239
CREATED:20221116T020801Z
LAST-MODIFIED:20221116T020801Z
UID:29071-1675123200-1675209599@www.mibsga.com
SUMMARY:Due Date for March 1st Renewal Paperwork is due January 31st
DESCRIPTION:
URL:https://www.mibsga.com/calendar/due-date-for-march-1st-renewal-paperwork-is-due-january-31st/
END:VEVENT
BEGIN:VEVENT
DTSTART;VALUE=DATE:20230116
DTEND;VALUE=DATE:20230117
DTSTAMP:20260423T185239
CREATED:20221116T020650Z
LAST-MODIFIED:20221116T020650Z
UID:29069-1673827200-1673913599@www.mibsga.com
SUMMARY:Due Date for February 15th Renewal Paperwork is due January 16th
DESCRIPTION:
URL:https://www.mibsga.com/calendar/due-date-for-february-15th-renewal-paperwork-is-due-january-16th/
END:VEVENT
BEGIN:VEVENT
DTSTART;VALUE=DATE:20230102
DTEND;VALUE=DATE:20230103
DTSTAMP:20260423T185239
CREATED:20221116T020550Z
LAST-MODIFIED:20221116T020550Z
UID:29067-1672617600-1672703999@www.mibsga.com
SUMMARY:Due Date for February 1st Renewal Paperwork is due January 2nd
DESCRIPTION:
URL:https://www.mibsga.com/calendar/due-date-for-february-1st-renewal-paperwork-is-due-january-2nd/
END:VEVENT
BEGIN:VEVENT
DTSTART;VALUE=DATE:20221214
DTEND;VALUE=DATE:20221215
DTSTAMP:20260423T185239
CREATED:20221116T015422Z
LAST-MODIFIED:20221116T020005Z
UID:29065-1670976000-1671062399@www.mibsga.com
SUMMARY:Due Date for January 15th Renewal Paperwork is due December 14th
DESCRIPTION:
URL:https://www.mibsga.com/calendar/due-date-for-january-15th-renewal-paperwork-is-due-december-14th/
END:VEVENT
BEGIN:VEVENT
DTSTART;VALUE=DATE:20221130
DTEND;VALUE=DATE:20221201
DTSTAMP:20260423T185239
CREATED:20221116T015300Z
LAST-MODIFIED:20221116T015300Z
UID:29063-1669766400-1669852799@www.mibsga.com
SUMMARY:Due Date for January 1st Renewal Paperwork is due November 30th
DESCRIPTION:
URL:https://www.mibsga.com/calendar/due-date-for-january-1st-renewal-paperwork-is-due-november-30th/
END:VEVENT
BEGIN:VEVENT
DTSTART;VALUE=DATE:20221111
DTEND;VALUE=DATE:20221112
DTSTAMP:20260423T185239
CREATED:20211028T014935Z
LAST-MODIFIED:20211028T014935Z
UID:27369-1668124800-1668211199@www.mibsga.com
SUMMARY:Due Date for December 15 Renewal Paperwork is November 11th
DESCRIPTION:
URL:https://www.mibsga.com/calendar/due-date-for-december-15-renewal-paperwork-is-november-11th/
END:VEVENT
BEGIN:VEVENT
DTSTART;VALUE=DATE:20221028
DTEND;VALUE=DATE:20221029
DTSTAMP:20260423T185239
CREATED:20211028T014757Z
LAST-MODIFIED:20211028T014757Z
UID:27367-1666915200-1667001599@www.mibsga.com
SUMMARY:Due Date for December 1st Renewal Paperwork is October 28th
DESCRIPTION:
URL:https://www.mibsga.com/calendar/due-date-for-december-1st-renewal-paperwork-is-october-28th/
END:VEVENT
BEGIN:VEVENT
DTSTART;VALUE=DATE:20221014
DTEND;VALUE=DATE:20221015
DTSTAMP:20260423T185239
CREATED:20211028T014631Z
LAST-MODIFIED:20211028T014631Z
UID:27365-1665705600-1665791999@www.mibsga.com
SUMMARY:Due Date for November 15th Renewal Paperwork is October 14th
DESCRIPTION:
URL:https://www.mibsga.com/calendar/due-date-for-november-15th-renewal-paperwork-is-october-14th/
END:VEVENT
BEGIN:VEVENT
DTSTART;VALUE=DATE:20220930
DTEND;VALUE=DATE:20221001
DTSTAMP:20260423T185239
CREATED:20211028T014516Z
LAST-MODIFIED:20211028T014516Z
UID:27363-1664496000-1664582399@www.mibsga.com
SUMMARY:Due Date for November 1st Renewal Paperwork is September 30th
DESCRIPTION:
URL:https://www.mibsga.com/calendar/due-date-for-november-1st-renewal-paperwork-is-september-30th/
END:VEVENT
BEGIN:VEVENT
DTSTART;VALUE=DATE:20220913
DTEND;VALUE=DATE:20220914
DTSTAMP:20260423T185239
CREATED:20211028T013408Z
LAST-MODIFIED:20211028T013408Z
UID:27361-1663027200-1663113599@www.mibsga.com
SUMMARY:Due Date for October 15th Renewal Paperwork is September 13th
DESCRIPTION:
URL:https://www.mibsga.com/calendar/due-date-for-october-15th-renewal-paperwork-is-september-13th/
END:VEVENT
BEGIN:VEVENT
DTSTART;VALUE=DATE:20220830
DTEND;VALUE=DATE:20220831
DTSTAMP:20260423T185239
CREATED:20211028T013135Z
LAST-MODIFIED:20211028T013135Z
UID:27359-1661817600-1661903999@www.mibsga.com
SUMMARY:Due Date for October 1st Renewal Paperwork is August 30th
DESCRIPTION:
URL:https://www.mibsga.com/calendar/due-date-for-october-1st-renewal-paperwork-is-august-30th/
END:VEVENT
BEGIN:VEVENT
DTSTART;VALUE=DATE:20220812
DTEND;VALUE=DATE:20220813
DTSTAMP:20260423T185239
CREATED:20211028T012232Z
LAST-MODIFIED:20211028T012232Z
UID:27357-1660262400-1660348799@www.mibsga.com
SUMMARY:Due Date for September 15th Renewal Paperwork is August 12th
DESCRIPTION:
URL:https://www.mibsga.com/calendar/due-date-for-september-15th-renewal-paperwork-is-august-12th/
END:VEVENT
END:VCALENDAR