BEGIN:VCALENDAR
VERSION:2.0
PRODID:-//Midwest Insurance Brokerage Services Inc - ECPv6.15.20//NONSGML v1.0//EN
CALSCALE:GREGORIAN
METHOD:PUBLISH
X-WR-CALNAME:Midwest Insurance Brokerage Services Inc
X-ORIGINAL-URL:https://www.mibsga.com
X-WR-CALDESC:Events for Midwest Insurance Brokerage Services Inc
REFRESH-INTERVAL;VALUE=DURATION:PT1H
X-Robots-Tag:noindex
X-PUBLISHED-TTL:PT1H
BEGIN:VTIMEZONE
TZID:UTC
BEGIN:STANDARD
TZOFFSETFROM:+0000
TZOFFSETTO:+0000
TZNAME:UTC
DTSTART:20220101T000000
END:STANDARD
END:VTIMEZONE
BEGIN:VEVENT
DTSTART;VALUE=DATE:20231114
DTEND;VALUE=DATE:20231115
DTSTAMP:20260424T221534
CREATED:20221116T024812Z
LAST-MODIFIED:20221116T024812Z
UID:29111-1699920000-1700006399@www.mibsga.com
SUMMARY:Due Date for December 15th Renewal Paperwork is due November 14th
DESCRIPTION:
URL:https://www.mibsga.com/calendar/due-date-for-december-15th-renewal-paperwork-is-due-november-14th/
END:VEVENT
BEGIN:VEVENT
DTSTART;TZID=UTC:20231130T080000
DTEND;TZID=UTC:20231130T170000
DTSTAMP:20260424T221534
CREATED:20230904T054249Z
LAST-MODIFIED:20230904T054249Z
UID:32958-1701331200-1701363600@www.mibsga.com
SUMMARY:Due Date for January 1st Renewal Paperwork is due November 30th
DESCRIPTION:
URL:https://www.mibsga.com/calendar/due-date-for-january-1st-renewal-paperwork-is-due-november-30th-2/
CATEGORIES:BCBS Group Due Dates
END:VEVENT
END:VCALENDAR