BEGIN:VCALENDAR
VERSION:2.0
PRODID:-//Midwest Insurance Brokerage Services Inc - ECPv6.15.20//NONSGML v1.0//EN
CALSCALE:GREGORIAN
METHOD:PUBLISH
X-ORIGINAL-URL:https://www.mibsga.com
X-WR-CALDESC:Events for Midwest Insurance Brokerage Services Inc
REFRESH-INTERVAL;VALUE=DURATION:PT1H
X-Robots-Tag:noindex
X-PUBLISHED-TTL:PT1H
BEGIN:VTIMEZONE
TZID:America/Chicago
BEGIN:DAYLIGHT
TZOFFSETFROM:-0600
TZOFFSETTO:-0500
TZNAME:CDT
DTSTART:20240310T080000
END:DAYLIGHT
BEGIN:STANDARD
TZOFFSETFROM:-0500
TZOFFSETTO:-0600
TZNAME:CST
DTSTART:20241103T070000
END:STANDARD
BEGIN:DAYLIGHT
TZOFFSETFROM:-0600
TZOFFSETTO:-0500
TZNAME:CDT
DTSTART:20250309T080000
END:DAYLIGHT
BEGIN:STANDARD
TZOFFSETFROM:-0500
TZOFFSETTO:-0600
TZNAME:CST
DTSTART:20251102T070000
END:STANDARD
BEGIN:DAYLIGHT
TZOFFSETFROM:-0600
TZOFFSETTO:-0500
TZNAME:CDT
DTSTART:20260308T080000
END:DAYLIGHT
BEGIN:STANDARD
TZOFFSETFROM:-0500
TZOFFSETTO:-0600
TZNAME:CST
DTSTART:20261101T070000
END:STANDARD
END:VTIMEZONE
BEGIN:VEVENT
DTSTART;TZID=America/Chicago:20251014T080000
DTEND;TZID=America/Chicago:20251014T170000
DTSTAMP:20260423T162310
CREATED:20241024T004850Z
LAST-MODIFIED:20241024T004850Z
UID:34515-1760428800-1760461200@www.mibsga.com
SUMMARY:Due Date for November 15th BCBSIL Group Renewal Paperwork
DESCRIPTION:
URL:https://www.mibsga.com/calendar/due-date-for-november-15th-bcbsil-group-renewal-paperwork-2/
CATEGORIES:BCBS Group Due Dates
END:VEVENT
BEGIN:VEVENT
DTSTART;TZID=America/Chicago:20251031T080000
DTEND;TZID=America/Chicago:20251031T170000
DTSTAMP:20260423T162310
CREATED:20241024T004914Z
LAST-MODIFIED:20241024T004914Z
UID:34517-1761897600-1761930000@www.mibsga.com
SUMMARY:Due Date for December 1st BCBSIL Group Renewal Paperwork
DESCRIPTION:
URL:https://www.mibsga.com/calendar/due-date-for-december-1st-bcbsil-group-renewal-paperwork-2/
CATEGORIES:BCBS Group Due Dates
END:VEVENT
END:VCALENDAR