BEGIN:VCALENDAR
VERSION:2.0
PRODID:-//Midwest Insurance Brokerage Services Inc - ECPv6.15.20//NONSGML v1.0//EN
CALSCALE:GREGORIAN
METHOD:PUBLISH
X-WR-CALNAME:Midwest Insurance Brokerage Services Inc
X-ORIGINAL-URL:https://www.mibsga.com
X-WR-CALDESC:Events for Midwest Insurance Brokerage Services Inc
REFRESH-INTERVAL;VALUE=DURATION:PT1H
X-Robots-Tag:noindex
X-PUBLISHED-TTL:PT1H
BEGIN:VTIMEZONE
TZID:America/Chicago
BEGIN:DAYLIGHT
TZOFFSETFROM:-0600
TZOFFSETTO:-0500
TZNAME:CDT
DTSTART:20250309T080000
END:DAYLIGHT
BEGIN:STANDARD
TZOFFSETFROM:-0500
TZOFFSETTO:-0600
TZNAME:CST
DTSTART:20251102T070000
END:STANDARD
BEGIN:DAYLIGHT
TZOFFSETFROM:-0600
TZOFFSETTO:-0500
TZNAME:CDT
DTSTART:20260308T080000
END:DAYLIGHT
BEGIN:STANDARD
TZOFFSETFROM:-0500
TZOFFSETTO:-0600
TZNAME:CST
DTSTART:20261101T070000
END:STANDARD
BEGIN:DAYLIGHT
TZOFFSETFROM:-0600
TZOFFSETTO:-0500
TZNAME:CDT
DTSTART:20270314T080000
END:DAYLIGHT
BEGIN:STANDARD
TZOFFSETFROM:-0500
TZOFFSETTO:-0600
TZNAME:CST
DTSTART:20271107T070000
END:STANDARD
END:VTIMEZONE
BEGIN:VEVENT
DTSTART;TZID=America/Chicago:20260302T080000
DTEND;TZID=America/Chicago:20260302T170000
DTSTAMP:20260423T092814
CREATED:20251114T152235Z
LAST-MODIFIED:20251114T152235Z
UID:35702-1772438400-1772470800@www.mibsga.com
SUMMARY:Due Date for April 1st BCBSIL Group Renewal Paperwork
DESCRIPTION:
URL:https://www.mibsga.com/calendar/due-date-for-april-1st-bcbsil-group-renewal-paperwork-3/
CATEGORIES:BCBS Group Due Dates
END:VEVENT
BEGIN:VEVENT
DTSTART;TZID=America/Chicago:20260304T110000
DTEND;TZID=America/Chicago:20260304T120000
DTSTAMP:20260423T092814
CREATED:20260220T165823Z
LAST-MODIFIED:20260220T165848Z
UID:37216-1772622000-1772625600@www.mibsga.com
SUMMARY:ICHRA Webinar
DESCRIPTION:Join us on March 4th at 11:00 AM for our ICHRA webinar to learn how employers can reimburse employees tax-free for individual coverage – without offering a traditional group plan.
URL:https://www.mibsga.com/calendar/ichra-webinar/
END:VEVENT
BEGIN:VEVENT
DTSTART;TZID=America/Chicago:20260313T080000
DTEND;TZID=America/Chicago:20260313T170000
DTSTAMP:20260423T092814
CREATED:20251114T152310Z
LAST-MODIFIED:20251114T152310Z
UID:35704-1773388800-1773421200@www.mibsga.com
SUMMARY:Due Date for April 15th BCBSIL Group Renewal Paperwork
DESCRIPTION:
URL:https://www.mibsga.com/calendar/due-date-for-april-15th-bcbsil-group-renewal-paperwork-3/
CATEGORIES:BCBS Group Due Dates
END:VEVENT
BEGIN:VEVENT
DTSTART;TZID=America/Chicago:20260331T080000
DTEND;TZID=America/Chicago:20260331T170000
DTSTAMP:20260423T092814
CREATED:20251114T152340Z
LAST-MODIFIED:20251114T152340Z
UID:35706-1774944000-1774976400@www.mibsga.com
SUMMARY:Due Date for May 1st BCBSIL Group Renewal Paperwork
DESCRIPTION:
URL:https://www.mibsga.com/calendar/due-date-for-may-1st-bcbsil-group-renewal-paperwork-3/
CATEGORIES:BCBS Group Due Dates
END:VEVENT
END:VCALENDAR