BEGIN:VCALENDAR
VERSION:2.0
PRODID:-//Midwest Insurance Brokerage Services Inc - ECPv6.15.20//NONSGML v1.0//EN
CALSCALE:GREGORIAN
METHOD:PUBLISH
X-ORIGINAL-URL:https://www.mibsga.com
X-WR-CALDESC:Events for Midwest Insurance Brokerage Services Inc
REFRESH-INTERVAL;VALUE=DURATION:PT1H
X-Robots-Tag:noindex
X-PUBLISHED-TTL:PT1H
BEGIN:VTIMEZONE
TZID:America/Chicago
BEGIN:DAYLIGHT
TZOFFSETFROM:-0600
TZOFFSETTO:-0500
TZNAME:CDT
DTSTART:20250309T080000
END:DAYLIGHT
BEGIN:STANDARD
TZOFFSETFROM:-0500
TZOFFSETTO:-0600
TZNAME:CST
DTSTART:20251102T070000
END:STANDARD
BEGIN:DAYLIGHT
TZOFFSETFROM:-0600
TZOFFSETTO:-0500
TZNAME:CDT
DTSTART:20260308T080000
END:DAYLIGHT
BEGIN:STANDARD
TZOFFSETFROM:-0500
TZOFFSETTO:-0600
TZNAME:CST
DTSTART:20261101T070000
END:STANDARD
BEGIN:DAYLIGHT
TZOFFSETFROM:-0600
TZOFFSETTO:-0500
TZNAME:CDT
DTSTART:20270314T080000
END:DAYLIGHT
BEGIN:STANDARD
TZOFFSETFROM:-0500
TZOFFSETTO:-0600
TZNAME:CST
DTSTART:20271107T070000
END:STANDARD
END:VTIMEZONE
BEGIN:VEVENT
DTSTART;TZID=America/Chicago:20260701T080000
DTEND;TZID=America/Chicago:20260701T170000
DTSTAMP:20260423T121059
CREATED:20251114T152809Z
LAST-MODIFIED:20251114T152809Z
UID:35718-1782892800-1782925200@www.mibsga.com
SUMMARY:Due Date for August 1st BCBSIL Group Renewal Paperwork
DESCRIPTION:
URL:https://www.mibsga.com/calendar/due-date-for-august-1st-bcbsil-group-renewal-paperwork-3/
CATEGORIES:BCBS Group Due Dates
END:VEVENT
BEGIN:VEVENT
DTSTART;TZID=America/Chicago:20260715T080000
DTEND;TZID=America/Chicago:20260715T170000
DTSTAMP:20260423T121059
CREATED:20251114T152837Z
LAST-MODIFIED:20251114T152837Z
UID:35720-1784102400-1784134800@www.mibsga.com
SUMMARY:Due Date for August 15th BCBSIL Group Renewal Paperwork
DESCRIPTION:
URL:https://www.mibsga.com/calendar/due-date-for-august-15th-bcbsil-group-renewal-paperwork-3/
CATEGORIES:BCBS Group Due Dates
END:VEVENT
BEGIN:VEVENT
DTSTART;TZID=America/Chicago:20260731T080000
DTEND;TZID=America/Chicago:20260731T170000
DTSTAMP:20260423T121059
CREATED:20251114T152910Z
LAST-MODIFIED:20251114T152910Z
UID:35722-1785484800-1785517200@www.mibsga.com
SUMMARY:Due Date for September 1st BCBSIL Group Renewal Paperwork
DESCRIPTION:
URL:https://www.mibsga.com/calendar/due-date-for-september-1st-bcbsil-group-renewal-paperwork-3/
CATEGORIES:BCBS Group Due Dates
END:VEVENT
END:VCALENDAR