BEGIN:VCALENDAR
VERSION:2.0
PRODID:-//Midwest Insurance Brokerage Services Inc - ECPv6.15.20//NONSGML v1.0//EN
CALSCALE:GREGORIAN
METHOD:PUBLISH
X-ORIGINAL-URL:https://www.mibsga.com
X-WR-CALDESC:Events for Midwest Insurance Brokerage Services Inc
REFRESH-INTERVAL;VALUE=DURATION:PT1H
X-Robots-Tag:noindex
X-PUBLISHED-TTL:PT1H
BEGIN:VTIMEZONE
TZID:America/Chicago
BEGIN:DAYLIGHT
TZOFFSETFROM:-0600
TZOFFSETTO:-0500
TZNAME:CDT
DTSTART:20250309T080000
END:DAYLIGHT
BEGIN:STANDARD
TZOFFSETFROM:-0500
TZOFFSETTO:-0600
TZNAME:CST
DTSTART:20251102T070000
END:STANDARD
BEGIN:DAYLIGHT
TZOFFSETFROM:-0600
TZOFFSETTO:-0500
TZNAME:CDT
DTSTART:20260308T080000
END:DAYLIGHT
BEGIN:STANDARD
TZOFFSETFROM:-0500
TZOFFSETTO:-0600
TZNAME:CST
DTSTART:20261101T070000
END:STANDARD
BEGIN:DAYLIGHT
TZOFFSETFROM:-0600
TZOFFSETTO:-0500
TZNAME:CDT
DTSTART:20270314T080000
END:DAYLIGHT
BEGIN:STANDARD
TZOFFSETFROM:-0500
TZOFFSETTO:-0600
TZNAME:CST
DTSTART:20271107T070000
END:STANDARD
END:VTIMEZONE
BEGIN:VEVENT
DTSTART;TZID=America/Chicago:20260814T080000
DTEND;TZID=America/Chicago:20260814T170000
DTSTAMP:20260423T132914
CREATED:20251114T152949Z
LAST-MODIFIED:20251114T152949Z
UID:35724-1786694400-1786726800@www.mibsga.com
SUMMARY:Due Date for September 15th BCBSIL Group Renewal Paperwork
DESCRIPTION:
URL:https://www.mibsga.com/calendar/due-date-for-september-15th-bcbsil-group-renewal-paperwork-3/
CATEGORIES:BCBS Group Due Dates
END:VEVENT
BEGIN:VEVENT
DTSTART;TZID=America/Chicago:20260831T080000
DTEND;TZID=America/Chicago:20260831T170000
DTSTAMP:20260423T132914
CREATED:20251114T153024Z
LAST-MODIFIED:20251114T153024Z
UID:35726-1788163200-1788195600@www.mibsga.com
SUMMARY:Due Date for October 1st BCBSIL Group Renewal Paperwork
DESCRIPTION:
URL:https://www.mibsga.com/calendar/due-date-for-october-1st-bcbsil-group-renewal-paperwork-3/
CATEGORIES:BCBS Group Due Dates
END:VEVENT
END:VCALENDAR